BEGIN:VCALENDAR
VERSION:2.0
PRODID:-//Illinois District Church of the Nazarene - ECPv6.15.20//NONSGML v1.0//EN
CALSCALE:GREGORIAN
METHOD:PUBLISH
X-WR-CALNAME:Illinois District Church of the Nazarene
X-ORIGINAL-URL:https://illinoisnaz.org
X-WR-CALDESC:Events for Illinois District Church of the Nazarene
REFRESH-INTERVAL;VALUE=DURATION:PT1H
X-Robots-Tag:noindex
X-PUBLISHED-TTL:PT1H
BEGIN:VTIMEZONE
TZID:America/Chicago
BEGIN:DAYLIGHT
TZOFFSETFROM:-0600
TZOFFSETTO:-0500
TZNAME:CDT
DTSTART:20240310T080000
END:DAYLIGHT
BEGIN:STANDARD
TZOFFSETFROM:-0500
TZOFFSETTO:-0600
TZNAME:CST
DTSTART:20241103T070000
END:STANDARD
BEGIN:DAYLIGHT
TZOFFSETFROM:-0600
TZOFFSETTO:-0500
TZNAME:CDT
DTSTART:20250309T080000
END:DAYLIGHT
BEGIN:STANDARD
TZOFFSETFROM:-0500
TZOFFSETTO:-0600
TZNAME:CST
DTSTART:20251102T070000
END:STANDARD
BEGIN:DAYLIGHT
TZOFFSETFROM:-0600
TZOFFSETTO:-0500
TZNAME:CDT
DTSTART:20260308T080000
END:DAYLIGHT
BEGIN:STANDARD
TZOFFSETFROM:-0500
TZOFFSETTO:-0600
TZNAME:CST
DTSTART:20261101T070000
END:STANDARD
END:VTIMEZONE
BEGIN:VEVENT
DTSTART;VALUE=DATE:20251206
DTEND;VALUE=DATE:20251207
DTSTAMP:20260423T184848
CREATED:20240317T014126Z
LAST-MODIFIED:20251110T183733Z
UID:7765-1764979200-1765065599@illinoisnaz.org
SUMMARY:District Leaders\, Pastor & Family’s Christ-mas Gathering\, Effingham
DESCRIPTION:Register by November 30.
URL:https://illinoisnaz.org/event/district-leaders-pastor-familys-christ-mas-gathering-effingham/
LOCATION:Thelma Keller Convention Center\, 1202 N. Keller Dr.\, Effingham\, IL\, 62401\, United States
CATEGORIES:District
END:VEVENT
BEGIN:VEVENT
DTSTART;TZID=America/Chicago:20251215T080000
DTEND;TZID=America/Chicago:20251215T170000
DTSTAMP:20260423T184848
CREATED:20251216T022103Z
LAST-MODIFIED:20251216T022103Z
UID:11973-1765785600-1765818000@illinoisnaz.org
SUMMARY:District Advisory Board
DESCRIPTION:
URL:https://illinoisnaz.org/event/district-advisory-board-5/
LOCATION:Bethalto
CATEGORIES:District Advisory Board
END:VEVENT
END:VCALENDAR