BEGIN:VCALENDAR
VERSION:2.0
PRODID:-//Illinois District Church of the Nazarene - ECPv6.15.20//NONSGML v1.0//EN
CALSCALE:GREGORIAN
METHOD:PUBLISH
X-ORIGINAL-URL:https://illinoisnaz.org
X-WR-CALDESC:Events for Illinois District Church of the Nazarene
REFRESH-INTERVAL;VALUE=DURATION:PT1H
X-Robots-Tag:noindex
X-PUBLISHED-TTL:PT1H
BEGIN:VTIMEZONE
TZID:America/Chicago
BEGIN:DAYLIGHT
TZOFFSETFROM:-0600
TZOFFSETTO:-0500
TZNAME:CDT
DTSTART:20240310T080000
END:DAYLIGHT
BEGIN:STANDARD
TZOFFSETFROM:-0500
TZOFFSETTO:-0600
TZNAME:CST
DTSTART:20241103T070000
END:STANDARD
BEGIN:DAYLIGHT
TZOFFSETFROM:-0600
TZOFFSETTO:-0500
TZNAME:CDT
DTSTART:20250309T080000
END:DAYLIGHT
BEGIN:STANDARD
TZOFFSETFROM:-0500
TZOFFSETTO:-0600
TZNAME:CST
DTSTART:20251102T070000
END:STANDARD
BEGIN:DAYLIGHT
TZOFFSETFROM:-0600
TZOFFSETTO:-0500
TZNAME:CDT
DTSTART:20260308T080000
END:DAYLIGHT
BEGIN:STANDARD
TZOFFSETFROM:-0500
TZOFFSETTO:-0600
TZNAME:CST
DTSTART:20261101T070000
END:STANDARD
END:VTIMEZONE
BEGIN:VEVENT
DTSTART;VALUE=DATE:20250508
DTEND;VALUE=DATE:20250511
DTSTAMP:20260424T044538
CREATED:20250316T020600Z
LAST-MODIFIED:20250316T020949Z
UID:9711-1746662400-1746921599@illinoisnaz.org
SUMMARY:ONU Field Celebrate Life
DESCRIPTION:
URL:https://illinoisnaz.org/event/onu-field-celebrate-life/
LOCATION:Olivet Nazarene University\, ONE UNIVERSITY AVE\, BOURBONNAIS\, IL\, 60914\, United States
END:VEVENT
BEGIN:VEVENT
DTSTART;VALUE=DATE:20250515
DTEND;VALUE=DATE:20250516
DTSTAMP:20260424T044538
CREATED:20250316T020903Z
LAST-MODIFIED:20250316T020903Z
UID:9714-1747267200-1747353599@illinoisnaz.org
SUMMARY:Deadline to turn in Pastor’s APR
DESCRIPTION:
URL:https://illinoisnaz.org/event/deadline-to-turn-in-pastors-apr/
END:VEVENT
BEGIN:VEVENT
DTSTART;TZID=America/Chicago:20250527T090000
DTEND;TZID=America/Chicago:20250527T103000
DTSTAMP:20260424T044538
CREATED:20241216T010704Z
LAST-MODIFIED:20241216T012351Z
UID:9292-1748336400-1748341800@illinoisnaz.org
SUMMARY:Pastor’s Professional Development
DESCRIPTION:
URL:https://illinoisnaz.org/event/pastors-professional-development-2-2-2/
LOCATION:zoom
END:VEVENT
END:VCALENDAR