BEGIN:VCALENDAR
VERSION:2.0
PRODID:-//Illinois District Church of the Nazarene - ECPv6.15.20//NONSGML v1.0//EN
CALSCALE:GREGORIAN
METHOD:PUBLISH
X-WR-CALNAME:Illinois District Church of the Nazarene
X-ORIGINAL-URL:https://illinoisnaz.org
X-WR-CALDESC:Events for Illinois District Church of the Nazarene
REFRESH-INTERVAL;VALUE=DURATION:PT1H
X-Robots-Tag:noindex
X-PUBLISHED-TTL:PT1H
BEGIN:VTIMEZONE
TZID:America/Chicago
BEGIN:DAYLIGHT
TZOFFSETFROM:-0600
TZOFFSETTO:-0500
TZNAME:CDT
DTSTART:20240310T080000
END:DAYLIGHT
BEGIN:STANDARD
TZOFFSETFROM:-0500
TZOFFSETTO:-0600
TZNAME:CST
DTSTART:20241103T070000
END:STANDARD
BEGIN:DAYLIGHT
TZOFFSETFROM:-0600
TZOFFSETTO:-0500
TZNAME:CDT
DTSTART:20250309T080000
END:DAYLIGHT
BEGIN:STANDARD
TZOFFSETFROM:-0500
TZOFFSETTO:-0600
TZNAME:CST
DTSTART:20251102T070000
END:STANDARD
BEGIN:DAYLIGHT
TZOFFSETFROM:-0600
TZOFFSETTO:-0500
TZNAME:CDT
DTSTART:20260308T080000
END:DAYLIGHT
BEGIN:STANDARD
TZOFFSETFROM:-0500
TZOFFSETTO:-0600
TZNAME:CST
DTSTART:20261101T070000
END:STANDARD
END:VTIMEZONE
BEGIN:VEVENT
DTSTART;VALUE=DATE:20250302
DTEND;VALUE=DATE:20250309
DTSTAMP:20260424T070711
CREATED:20240325T142322Z
LAST-MODIFIED:20240325T142322Z
UID:7803-1740873600-1741478399@illinoisnaz.org
SUMMARY:Global Week of Prayer\, 2 March – 8 March 2025
DESCRIPTION:
URL:https://illinoisnaz.org/event/global-week-of-prayer-2-march-8-march-2025/
CATEGORIES:NMI
END:VEVENT
BEGIN:VEVENT
DTSTART;VALUE=DATE:20250317
DTEND;VALUE=DATE:20250321
DTSTAMP:20260424T070711
CREATED:20240817T013828Z
LAST-MODIFIED:20240817T013828Z
UID:8629-1742169600-1742515199@illinoisnaz.org
SUMMARY:Exponential Conference\, Orlando
DESCRIPTION:
URL:https://illinoisnaz.org/event/exponential-conference-orlando/
CATEGORIES:District
END:VEVENT
BEGIN:VEVENT
DTSTART;VALUE=DATE:20250317
DTEND;VALUE=DATE:20250327
DTSTAMP:20260424T070711
CREATED:20240607T005736Z
LAST-MODIFIED:20250218T192546Z
UID:8217-1742169600-1743033599@illinoisnaz.org
SUMMARY:NMI Missions Rally
DESCRIPTION:ROD and SARAH REED – Africa Region
URL:https://illinoisnaz.org/event/nmi-missions-rally/
CATEGORIES:NMI
END:VEVENT
BEGIN:VEVENT
DTSTART;TZID=America/Chicago:20250317T190000
DTEND;TZID=America/Chicago:20250317T210000
DTSTAMP:20260424T070711
CREATED:20240607T005736Z
LAST-MODIFIED:20241216T015614Z
UID:9310-1742238000-1742245200@illinoisnaz.org
SUMMARY:NMI Missions Rally - South Central Zone
DESCRIPTION:ROD and SARAH REED
URL:https://illinoisnaz.org/event/nmi-missions-rally-2/
LOCATION:Mount Erie Church of the Nazarene\, 2481 Co. Rd.Hwy. 2\, Mount Erie\, IL\, 62446\, United States
CATEGORIES:NMI
END:VEVENT
BEGIN:VEVENT
DTSTART;TZID=America/Chicago:20250318T190000
DTEND;TZID=America/Chicago:20250318T210000
DTSTAMP:20260424T070711
CREATED:20240607T005736Z
LAST-MODIFIED:20241216T020210Z
UID:9312-1742324400-1742331600@illinoisnaz.org
SUMMARY:NMI Missions Rally - Southern Zone
DESCRIPTION:ROD and SARAH REED
URL:https://illinoisnaz.org/event/nmi-missions-rally-2-2/
LOCATION:Anna First Church of the Nazarene\, 100 Kirk St.\, Anna\, IL\, 62906
CATEGORIES:NMI
END:VEVENT
BEGIN:VEVENT
DTSTART;TZID=America/Chicago:20250319T190000
DTEND;TZID=America/Chicago:20250319T210000
DTSTAMP:20260424T070711
CREATED:20240607T005736Z
LAST-MODIFIED:20241216T020626Z
UID:9315-1742410800-1742418000@illinoisnaz.org
SUMMARY:NMI Missions Rally - Metro Zone
DESCRIPTION:ROD and SARAH REED
URL:https://illinoisnaz.org/event/nmi-missions-rally-2-2-2/
LOCATION:Belleville Emmanuel Church of the Nazarene\, 8201 Old St Louis Rd\, Belleville\, IL\, 62223
CATEGORIES:NMI
END:VEVENT
BEGIN:VEVENT
DTSTART;TZID=America/Chicago:20250320T190000
DTEND;TZID=America/Chicago:20250320T210000
DTSTAMP:20260424T070711
CREATED:20240607T005736Z
LAST-MODIFIED:20241216T021925Z
UID:9317-1742497200-1742504400@illinoisnaz.org
SUMMARY:NMI Missions Rally - Illinois River Zone
DESCRIPTION:ROD and SARAH REED
URL:https://illinoisnaz.org/event/nmi-missions-rally-2-2-2-2/
LOCATION:Griggsville Church of the Nazarene\, 106 Quincy St.\, griggsville\, IL\, 62340
CATEGORIES:NMI
END:VEVENT
BEGIN:VEVENT
DTSTART;TZID=America/Chicago:20250323T183000
DTEND;TZID=America/Chicago:20250323T210000
DTSTAMP:20260424T070711
CREATED:20240607T005736Z
LAST-MODIFIED:20241216T021158Z
UID:9320-1742754600-1742763600@illinoisnaz.org
SUMMARY:NMI Missions Rally - North Central Zone
DESCRIPTION:ROD and SARAH REED
URL:https://illinoisnaz.org/event/nmi-missions-rally-2-2-2-2-2/
LOCATION:Springfield First
CATEGORIES:NMI
END:VEVENT
BEGIN:VEVENT
DTSTART;TZID=America/Chicago:20250324T190000
DTEND;TZID=America/Chicago:20250324T210000
DTSTAMP:20260424T070711
CREATED:20240607T005736Z
LAST-MODIFIED:20241216T021539Z
UID:9323-1742842800-1742850000@illinoisnaz.org
SUMMARY:NMI Missions Rally - North East Zone
DESCRIPTION:ROD and SARAH REED
URL:https://illinoisnaz.org/event/nmi-missions-rally-2-2-2-2-2-2/
LOCATION:Chrisman Church of the Nazarene\, 313 N. Pennsylvania\, Chrisman\, IL\, 61924
CATEGORIES:NMI
END:VEVENT
BEGIN:VEVENT
DTSTART;TZID=America/Chicago:20250325T090000
DTEND;TZID=America/Chicago:20250325T103000
DTSTAMP:20260424T070711
CREATED:20241216T010704Z
LAST-MODIFIED:20241216T011030Z
UID:9285-1742893200-1742898600@illinoisnaz.org
SUMMARY:Pastor’s Professional Development
DESCRIPTION:
URL:https://illinoisnaz.org/event/pastors-professional-development-2/
LOCATION:zoom
END:VEVENT
BEGIN:VEVENT
DTSTART;TZID=America/Chicago:20250325T183000
DTEND;TZID=America/Chicago:20250325T193000
DTSTAMP:20260424T070711
CREATED:20241216T010704Z
LAST-MODIFIED:20250218T205103Z
UID:9525-1742927400-1742931000@illinoisnaz.org
SUMMARY:Pastor’s Professional Development
DESCRIPTION:All details needed to prepare your APR!
URL:https://illinoisnaz.org/event/pastors-professional-development-2-2-3-2-2-4/
LOCATION:zoom
END:VEVENT
BEGIN:VEVENT
DTSTART;TZID=America/Chicago:20250326T190000
DTEND;TZID=America/Chicago:20250326T210000
DTSTAMP:20260424T070711
CREATED:20240607T005736Z
LAST-MODIFIED:20250218T192406Z
UID:9326-1743015600-1743022800@illinoisnaz.org
SUMMARY:NMI Missions Rally - East Central Zone
DESCRIPTION:ROD and SARAH REED – Africa Region
URL:https://illinoisnaz.org/event/nmi-missions-rally-2-2-2-2-2-2-2/
LOCATION:Mattoon East Side\, 2129 S. 9th St.\, Mattoon\, IL\, 61938\, United States
CATEGORIES:NMI
END:VEVENT
END:VCALENDAR