BEGIN:VCALENDAR
VERSION:2.0
PRODID:-//Illinois District Church of the Nazarene - ECPv6.15.20//NONSGML v1.0//EN
CALSCALE:GREGORIAN
METHOD:PUBLISH
X-WR-CALNAME:Illinois District Church of the Nazarene
X-ORIGINAL-URL:https://illinoisnaz.org
X-WR-CALDESC:Events for Illinois District Church of the Nazarene
REFRESH-INTERVAL;VALUE=DURATION:PT1H
X-Robots-Tag:noindex
X-PUBLISHED-TTL:PT1H
BEGIN:VTIMEZONE
TZID:America/Chicago
BEGIN:DAYLIGHT
TZOFFSETFROM:-0600
TZOFFSETTO:-0500
TZNAME:CDT
DTSTART:20250309T080000
END:DAYLIGHT
BEGIN:STANDARD
TZOFFSETFROM:-0500
TZOFFSETTO:-0600
TZNAME:CST
DTSTART:20251102T070000
END:STANDARD
BEGIN:DAYLIGHT
TZOFFSETFROM:-0600
TZOFFSETTO:-0500
TZNAME:CDT
DTSTART:20260308T080000
END:DAYLIGHT
BEGIN:STANDARD
TZOFFSETFROM:-0500
TZOFFSETTO:-0600
TZNAME:CST
DTSTART:20261101T070000
END:STANDARD
BEGIN:DAYLIGHT
TZOFFSETFROM:-0600
TZOFFSETTO:-0500
TZNAME:CDT
DTSTART:20270314T080000
END:DAYLIGHT
BEGIN:STANDARD
TZOFFSETFROM:-0500
TZOFFSETTO:-0600
TZNAME:CST
DTSTART:20271107T070000
END:STANDARD
BEGIN:DAYLIGHT
TZOFFSETFROM:-0600
TZOFFSETTO:-0500
TZNAME:CDT
DTSTART:20280312T080000
END:DAYLIGHT
BEGIN:STANDARD
TZOFFSETFROM:-0500
TZOFFSETTO:-0600
TZNAME:CST
DTSTART:20281105T070000
END:STANDARD
END:VTIMEZONE
BEGIN:VEVENT
DTSTART;VALUE=DATE:20261031
DTEND;VALUE=DATE:20261101
DTSTAMP:20260423T184904
CREATED:20251215T230705Z
LAST-MODIFIED:20251215T230705Z
UID:11958-1793404800-1793491199@illinoisnaz.org
SUMMARY:District Advisory Board Quarterly Zoom Meeting
DESCRIPTION:
URL:https://illinoisnaz.org/event/district-advisory-board-quarterly-zoom-meeting-2/
LOCATION:il
END:VEVENT
BEGIN:VEVENT
DTSTART;TZID=America/Chicago:20261205T080000
DTEND;TZID=America/Chicago:20261205T170000
DTSTAMP:20260423T184904
CREATED:20250719T011412Z
LAST-MODIFIED:20250719T011412Z
UID:10622-1796457600-1796490000@illinoisnaz.org
SUMMARY:District Leader’s Family Gathering
DESCRIPTION:
URL:https://illinoisnaz.org/event/district-leaders-family-gathering/
LOCATION:Effingham Thelma Keller Convention Center\, 1202 N. Keller Dr.\, Effingham\, illinois\, 62401
CATEGORIES:District
END:VEVENT
BEGIN:VEVENT
DTSTART;TZID=America/Chicago:20270123T080000
DTEND;TZID=America/Chicago:20270123T170000
DTSTAMP:20260423T184904
CREATED:20251216T021459Z
LAST-MODIFIED:20251216T021459Z
UID:11962-1800691200-1800723600@illinoisnaz.org
SUMMARY:District Advisory Board Quarterly Zoom Meeting
DESCRIPTION:
URL:https://illinoisnaz.org/event/district-advisory-board-quarterly-zoom-meeting-3/
LOCATION:il
END:VEVENT
BEGIN:VEVENT
DTSTART;TZID=America/Chicago:20270130T080000
DTEND;TZID=America/Chicago:20270130T170000
DTSTAMP:20260423T184904
CREATED:20251216T021614Z
LAST-MODIFIED:20251216T021614Z
UID:11965-1801296000-1801328400@illinoisnaz.org
SUMMARY:District Board of Ministry Meeting
DESCRIPTION:
URL:https://illinoisnaz.org/event/district-board-of-ministry-meeting/
LOCATION:Roxana Church of the Nazarene\, 500 N. Central Ave.\, Roxana\, IL\, 62084\, United States
CATEGORIES:District
END:VEVENT
BEGIN:VEVENT
DTSTART;VALUE=DATE:20270321
DTEND;VALUE=DATE:20270322
DTSTAMP:20260423T184904
CREATED:20251216T021706Z
LAST-MODIFIED:20251216T021706Z
UID:11967-1805587200-1805673599@illinoisnaz.org
SUMMARY:Palm Sunday
DESCRIPTION:
URL:https://illinoisnaz.org/event/palm-sunday-3/
LOCATION:il
CATEGORIES:District
END:VEVENT
BEGIN:VEVENT
DTSTART;VALUE=DATE:20270328
DTEND;VALUE=DATE:20270329
DTSTAMP:20260423T184904
CREATED:20251216T021753Z
LAST-MODIFIED:20251216T021753Z
UID:11969-1806192000-1806278399@illinoisnaz.org
SUMMARY:Easter
DESCRIPTION:
URL:https://illinoisnaz.org/event/easter/
LOCATION:il
CATEGORIES:District
END:VEVENT
BEGIN:VEVENT
DTSTART;TZID=America/Chicago:20270410T080000
DTEND;TZID=America/Chicago:20270410T170000
DTSTAMP:20260423T184904
CREATED:20251216T021914Z
LAST-MODIFIED:20251216T021914Z
UID:11971-1807344000-1807376400@illinoisnaz.org
SUMMARY:District Board of Ministry
DESCRIPTION:
URL:https://illinoisnaz.org/event/district-board-of-ministry/
LOCATION:Mattoon East Side\, 2129 S. 9th St.\, Mattoon\, IL\, 61938\, United States
CATEGORIES:District
END:VEVENT
BEGIN:VEVENT
DTSTART;TZID=America/Chicago:20270417T080000
DTEND;TZID=America/Chicago:20270417T170000
DTSTAMP:20260423T184904
CREATED:20260216T032753Z
LAST-MODIFIED:20260216T032753Z
UID:12184-1807948800-1807981200@illinoisnaz.org
SUMMARY:District Advisory Board @ Bethalto
DESCRIPTION:
URL:https://illinoisnaz.org/event/district-advisory-board-bethalto-3/
LOCATION:Bethalto
CATEGORIES:District Advisory Board
END:VEVENT
BEGIN:VEVENT
DTSTART;VALUE=DATE:20270625
DTEND;VALUE=DATE:20270703
DTSTAMP:20260423T184904
CREATED:20250316T022252Z
LAST-MODIFIED:20250316T022252Z
UID:9721-1813881600-1814572799@illinoisnaz.org
SUMMARY:General Assembly
DESCRIPTION:
URL:https://illinoisnaz.org/event/general-assembly/
LOCATION:Kansas City\, MO
CATEGORIES:District,NDI,NMI,NYI
END:VEVENT
BEGIN:VEVENT
DTSTART;VALUE=DATE:20270628
DTEND;VALUE=DATE:20270703
DTSTAMP:20260423T184904
CREATED:20251016T031509Z
LAST-MODIFIED:20251016T031509Z
UID:11211-1814140800-1814572799@illinoisnaz.org
SUMMARY:District Youth Camp
DESCRIPTION:
URL:https://illinoisnaz.org/event/district-youth-camp/
LOCATION:il
CATEGORIES:NYI
END:VEVENT
BEGIN:VEVENT
DTSTART;VALUE=DATE:20270716
DTEND;VALUE=DATE:20270718
DTSTAMP:20260423T184904
CREATED:20251016T031641Z
LAST-MODIFIED:20251016T031641Z
UID:11213-1815696000-1815868799@illinoisnaz.org
SUMMARY:Illinois District Assembly
DESCRIPTION:
URL:https://illinoisnaz.org/event/illinois-district-assembly-2/
LOCATION:il
CATEGORIES:District,NDI,NMI
END:VEVENT
BEGIN:VEVENT
DTSTART;VALUE=DATE:20270719
DTEND;VALUE=DATE:20270724
DTSTAMP:20260423T184904
CREATED:20251216T022425Z
LAST-MODIFIED:20251216T022425Z
UID:11979-1815955200-1816387199@illinoisnaz.org
SUMMARY:Tentative Date for Children’s Camp
DESCRIPTION:
URL:https://illinoisnaz.org/event/tentative-date-for-childrens-camp/
LOCATION:il
CATEGORIES:District,NDI
END:VEVENT
END:VCALENDAR