BEGIN:VCALENDAR
VERSION:2.0
PRODID:-//Illinois District Church of the Nazarene - ECPv6.15.20//NONSGML v1.0//EN
CALSCALE:GREGORIAN
METHOD:PUBLISH
X-WR-CALNAME:Illinois District Church of the Nazarene
X-ORIGINAL-URL:https://illinoisnaz.org
X-WR-CALDESC:Events for Illinois District Church of the Nazarene
REFRESH-INTERVAL;VALUE=DURATION:PT1H
X-Robots-Tag:noindex
X-PUBLISHED-TTL:PT1H
BEGIN:VTIMEZONE
TZID:America/Chicago
BEGIN:DAYLIGHT
TZOFFSETFROM:-0600
TZOFFSETTO:-0500
TZNAME:CDT
DTSTART:20200308T080000
END:DAYLIGHT
BEGIN:STANDARD
TZOFFSETFROM:-0500
TZOFFSETTO:-0600
TZNAME:CST
DTSTART:20201101T070000
END:STANDARD
BEGIN:DAYLIGHT
TZOFFSETFROM:-0600
TZOFFSETTO:-0500
TZNAME:CDT
DTSTART:20210314T080000
END:DAYLIGHT
BEGIN:STANDARD
TZOFFSETFROM:-0500
TZOFFSETTO:-0600
TZNAME:CST
DTSTART:20211107T070000
END:STANDARD
BEGIN:DAYLIGHT
TZOFFSETFROM:-0600
TZOFFSETTO:-0500
TZNAME:CDT
DTSTART:20220313T080000
END:DAYLIGHT
BEGIN:STANDARD
TZOFFSETFROM:-0500
TZOFFSETTO:-0600
TZNAME:CST
DTSTART:20221106T070000
END:STANDARD
BEGIN:DAYLIGHT
TZOFFSETFROM:-0600
TZOFFSETTO:-0500
TZNAME:CDT
DTSTART:20230312T080000
END:DAYLIGHT
BEGIN:STANDARD
TZOFFSETFROM:-0500
TZOFFSETTO:-0600
TZNAME:CST
DTSTART:20231105T070000
END:STANDARD
END:VTIMEZONE
BEGIN:VEVENT
DTSTART;VALUE=DATE:20220603
DTEND;VALUE=DATE:20220605
DTSTAMP:20260425T114530
CREATED:20211216T211104Z
LAST-MODIFIED:20211216T212557Z
UID:2819-1654214400-1654387199@illinoisnaz.org
SUMMARY:Regional Children’s Quiz
DESCRIPTION:
URL:https://illinoisnaz.org/event/regional-childrens-quiz/
LOCATION:Olivet Nazarene University\, ONE UNIVERSITY AVE\, BOURBONNAIS\, IL\, 60914\, United States
CATEGORIES:District,NDI
END:VEVENT
BEGIN:VEVENT
DTSTART;TZID=America/Chicago:20220512T080000
DTEND;TZID=America/Chicago:20220514T170000
DTSTAMP:20260425T114530
CREATED:20220401T173557Z
LAST-MODIFIED:20220401T174908Z
UID:3274-1652342400-1652547600@illinoisnaz.org
SUMMARY:2022 REGIONAL CELEBRATE LIFE @ OLIVET NAZARENE UNIVERSITY
DESCRIPTION:After 2 years off\, Celebrate Life is back on the calendar.  Cost is $125/person which includes registration\, meals\, lodging and a chance to participate in sports and 3 worship services with LaMorris Crawford speaking.  Deadline is April 15\, District RCL Reg Forms 2022ONU RELEASE OF CLAIMS FORM2022 ONU ASSUMPTION OF RISK AGREEMENT
URL:https://illinoisnaz.org/event/2022-regional-celebrate-life-olivet-nazarene-university/
LOCATION:Olivet Nazarene University\, ONE UNIVERSITY AVE\, BOURBONNAIS\, IL\, 60914\, United States
CATEGORIES:District,NYI
END:VEVENT
BEGIN:VEVENT
DTSTART;VALUE=DATE:20220430
DTEND;VALUE=DATE:20220501
DTSTAMP:20260425T114530
CREATED:20211001T024957Z
LAST-MODIFIED:20220216T162919Z
UID:2233-1651276800-1651363199@illinoisnaz.org
SUMMARY:Board of Ministry Meeting
DESCRIPTION:Ordinand & First Time District License Interviews
URL:https://illinoisnaz.org/event/board-of-ministry-meeting-2/
LOCATION:Mattoon East Side\, 2129 S. 9th St.\, Mattoon\, IL\, 61938\, United States
CATEGORIES:District
END:VEVENT
BEGIN:VEVENT
DTSTART;TZID=America/Chicago:20220423T100000
DTEND;TZID=America/Chicago:20220423T170000
DTSTAMP:20260425T114530
CREATED:20211216T212436Z
LAST-MODIFIED:20211216T212436Z
UID:2821-1650708000-1650733200@illinoisnaz.org
SUMMARY:District Children’s Quiz
DESCRIPTION:
URL:https://illinoisnaz.org/event/district-childrens-quiz/
LOCATION:Salem Grace Church of the Nazarene\, 1900 N. Broadway\, Salem\, IL\, 62881\, United States
CATEGORIES:District,NDI
END:VEVENT
BEGIN:VEVENT
DTSTART;VALUE=DATE:20220409
DTEND;VALUE=DATE:20220410
DTSTAMP:20260425T114530
CREATED:20220118T224238Z
LAST-MODIFIED:20220118T224238Z
UID:2971-1649462400-1649548799@illinoisnaz.org
SUMMARY:District NMI Council Mtg.
DESCRIPTION:
URL:https://illinoisnaz.org/event/district-nmi-council-mtg/
CATEGORIES:NMI
END:VEVENT
BEGIN:VEVENT
DTSTART;TZID=America/Chicago:20220402T140000
DTEND;TZID=America/Chicago:20220402T160000
DTSTAMP:20260425T114530
CREATED:20220118T224337Z
LAST-MODIFIED:20220314T194733Z
UID:2973-1648908000-1648915200@illinoisnaz.org
SUMMARY:District Finance Committee Mtg.
DESCRIPTION:
URL:https://illinoisnaz.org/event/district-finance-committee-mtg/
CATEGORIES:District
END:VEVENT
BEGIN:VEVENT
DTSTART;VALUE=DATE:20220319
DTEND;VALUE=DATE:20220320
DTSTAMP:20260425T114530
CREATED:20220118T224443Z
LAST-MODIFIED:20220318T023322Z
UID:2975-1647648000-1647734399@illinoisnaz.org
SUMMARY:District NDI Council Mtg.
DESCRIPTION:
URL:https://illinoisnaz.org/event/district-sdmi-council-mtg/
CATEGORIES:NDI
END:VEVENT
BEGIN:VEVENT
DTSTART;VALUE=DATE:20220311
DTEND;VALUE=DATE:20220313
DTSTAMP:20260425T114530
CREATED:20220118T165502Z
LAST-MODIFIED:20220129T165931Z
UID:2960-1646956800-1647129599@illinoisnaz.org
SUMMARY:District Celebrate Life
DESCRIPTION:District Celebrate Life will be at Roxana\, March 11 & 12\, 2022!  Registration is due by February 12\, 2022.  Send the registration form to the address on the registration form.  After February 12\, the registration price increases by $10. \nDistrict DCL Registration Student forms 2022
URL:https://illinoisnaz.org/event/district-celebrate-life-2/
LOCATION:Roxana\, Roxana\, IL
CATEGORIES:District,NYI
ORGANIZER;CN="Jared Bouton":MAILTO:jared.bouton@gmail.com
END:VEVENT
BEGIN:VEVENT
DTSTART;VALUE=DATE:20220304
DTEND;VALUE=DATE:20220306
DTSTAMP:20260425T114530
CREATED:20210921T170653Z
LAST-MODIFIED:20210921T171602Z
UID:2044-1646352000-1646524799@illinoisnaz.org
SUMMARY:TEEN QUIZZING - District Finals - Romans & James
DESCRIPTION:
URL:https://illinoisnaz.org/event/teen-quizzing-romans-1-7-2-2-2-2/
LOCATION:Champaign First Church of the Nazarene\, 2403 W. Kirby\, Champaign\, IL\, 61821\, United States
CATEGORIES:NYI,Teen Quizzing
ORGANIZER;CN="Lizzy Hines":MAILTO:elizabeth111577@ymail.com
END:VEVENT
BEGIN:VEVENT
DTSTART;VALUE=DATE:20220219
DTEND;VALUE=DATE:20220220
DTSTAMP:20260425T114530
CREATED:20211118T060052Z
LAST-MODIFIED:20211124T160406Z
UID:2730-1645228800-1645315199@illinoisnaz.org
SUMMARY:District Advisory Board
DESCRIPTION:
URL:https://illinoisnaz.org/event/district-advisory-board-3/
LOCATION:Virtual Teleconference\, IL\, United States
CATEGORIES:District Advisory Board
ORGANIZER;CN="Terry Armstrong":MAILTO:terry@illininaz.org
END:VEVENT
BEGIN:VEVENT
DTSTART;VALUE=DATE:20220212
DTEND;VALUE=DATE:20220213
DTSTAMP:20260425T114530
CREATED:20210921T170653Z
LAST-MODIFIED:20210921T171235Z
UID:2040-1644624000-1644710399@illinoisnaz.org
SUMMARY:TEEN QUIZZING - Romans 1-16\, James 1-3
DESCRIPTION:
URL:https://illinoisnaz.org/event/teen-quizzing-romans-1-7-2-2/
LOCATION:Pittsfield Church of the Nazarene\, 227 West Washington St.\, Pittsfield\, IL\, 62363\, United States
CATEGORIES:NYI,Teen Quizzing
ORGANIZER;CN="Lizzy Hines":MAILTO:elizabeth111577@ymail.com
END:VEVENT
BEGIN:VEVENT
DTSTART;VALUE=DATE:20220205
DTEND;VALUE=DATE:20220206
DTSTAMP:20260425T114530
CREATED:20211001T024730Z
LAST-MODIFIED:20211001T024730Z
UID:2231-1644019200-1644105599@illinoisnaz.org
SUMMARY:Board of Ministry Meeting
DESCRIPTION:District License Renewal Interviews
URL:https://illinoisnaz.org/event/board-of-ministry-meeting/
CATEGORIES:District
END:VEVENT
BEGIN:VEVENT
DTSTART;TZID=America/Chicago:20220122T090000
DTEND;TZID=America/Chicago:20220122T140000
DTSTAMP:20260425T114530
CREATED:20211218T034457Z
LAST-MODIFIED:20211218T211906Z
UID:2861-1642842000-1642860000@illinoisnaz.org
SUMMARY:Team Day 2022 South
DESCRIPTION:Team Day\n2022 South\n			\n			\n				\n				\n				\n				\n			\n				\n				\n			\n				\n				\n				\n				\n				\n				\n				\n				\n				\n				\n				\n				\n				\n				\n				\n				\n				\n				Join us for a day dedicated to sharpening your skills and learning from other Christian sisters and brothers in the ministry trenches just like you! Two breakout growing opportunities and a closing session. \nJanuary 8\, 2022 – Salem GraceRegistration: 8:30amEvent: 9:00am-2:00pmRegister Now (Free) \n			\n			\n				\n				\n				\n				\n			\n				\n				\n			\n				\n				\n				\n				\n				\n				\n				\n				\n				\n				\n				\n				\n				\n				\n				\n				\n				\n				Breakout Sessions\n			\n			\n				\n				\n				\n				\n			\n				\n				\n				\n				\n				\n				\n				\n				\n				\n				\n				\n				\n				\n				\n				\n				blank\n				blank\n			\n				\n				\n				\n				\n				Sanctification 101 \n				Dr. Timothy Crutcher (Breakout Session 1 only) \nHoliness is not a complicated reality. It is actually the thread that ties together what we know about who God is\, who we are as human beings\, and how we relate to God. In this workshop\, we will present holiness and sanctification in a simple yet powerful way that makes those ideas exciting and hopeful and worth aspiring to live out. \n			\n				\n				\n				\n				\n				 Facilitating: Symptoms of Survivors and Theological Comparisons after Calamities\n				Dr. James Hicks\, ONU Field SDMI Coordinator (Breakout Session 1 & 2 ) \nThis workshop will reveal changes within people after a national Crisis and share theological directions to assist those needs. Applications will be made from developmental psychology and can be used not only in the development of small groups but other forms of ministry. \n			\n				\n				\n				\n				\n				Small Group Ministry \n				Dr. James Hicks\, ONU Field SDMI Coordinator (Breakout Session 1 & 2) \nThis workshop will highlight some of the key elements to making Christ-like disciples that make Christ-like disciples through the ministry of small groups. Churches of every shape and size will benefit from hearing the thoughts and practices from Dr. Hicks as he shares various ways to increase discipleship through the important ministry of small groups. \n			\n				\n				\n				\n				\n				NMI President’s/Council Training \n				Ms. Kelly Love\, Kansas District NMI President (Breakout Session 2 Only) \nKelly will walk through a resource handbook that will assist you in developing your NMI program to encourage and equip your ministry in missions. \n			\n				\n				\n				\n				\n				Youth Culture Translator:   How to relate and connect with students!\n				Jared Bouton (Breakout Session 1 & 2) \nOne of the most important aspects of ministry is being and remaining relevant to those to which you are ministering. This is increasingly harder as we grow older and the age gap becomes bigger and bigger from those who are youth. Learn tactics and resources to help you be and stay relevant in the world of students today. \n			\n				\n				\n				\n				\n				Dealing with Church Finances\n				Rev. Terry Armstrong\, Carolyn Peters\, and Michelle Trambley (Breakout Session 1 & 2) \nUnderstanding the issues of audit\, pastor’s compensation pay package and the tax liability\, Funding the Mission. \n			\n				\n				\n				\n				\n				Taller de español Uno\n				David Samayoa (Breakout Session 1 Only) \nUna aproximación a la doctrina\, gobierno\, práctica y obra de evangelización y proclamación de Santidad de la iglesia del Nazareno. \n			\n				\n				\n				\n				\n				Taller de español Dos\n				Sonia Samayoa (Breakout Session 2 Only) \nAprendiendo las formas de desarrollar una lección bíblica y con propósito para los niños de acuerdo a sus edades. \n			\n				\n				\n				\n				\n				A Creative God Creates A Creative Church\n				Danaka Bulthuis (Breakout Session 1 & 2) \nTrees\, Sorcerers\, and Tent Stakes God used them all. Sit with other believers as we search for God’s gift to us. In our obedience\, we must use that gift to disciple others. \nOur churches have been pushed into changing during the past couple of years. Can you learn to embrace this moment in time or are you struggling to return to “normal”? Just as a rubber band once stretched cannot return to its original shape\, our churches will never be the same shape again. Spend some time today searching and understanding the call of the Nazarene Church to reach the nations\, how our world is changing\, and how we need to look at our future. God always provides direction for His church. What path could He be calling you to follow? How can you build your church body to further His kingdom? Would He really be asking you to do something creative? 2.5% of humans come up with new ideas on their own\, but 97.5% of us will be used by God to come up with new ideas. Are you ready for God to stretch your mind? \n			\n				\n				\n				\n				\n				Keynote Plenary Session\n				Dr. Mike Palmer\, Missouri District Superintendent \nMike is a dynamic communicator! He has served as a pastor\, evangelist and district superintendent. He loves Jesus\, loves people and is an effective communicator of the gospel. He will be presenting a message of encouragement and inspiration as we try to discover how to continue to navigate these difficult and discouraging days. \n			\n			\n				\n				\n				\n				\n				Register Now (Free)\n			\n			\n				\n				\n				\n				\n			\n				\n				\n			\n				\n				\n				\n				\n				\n				\n				\n				\n				\n				\n				\n				\n				\n				\n				\n				\n				\n				Schedule\n			\n				\n				\n				\n				\n				8:30am – Registration9:30am – Opening Session9:30am – Breakout Session 110:30am – Break10:45am – Breakout Session 212:00pm – Closing Plenary Session \nRegister Now (Free)
URL:https://illinoisnaz.org/event/team-day-2022-south/
LOCATION:Salem Grace Church of the Nazarene\, 1900 N. Broadway\, Salem\, IL\, 62881\, United States
CATEGORIES:District
ORGANIZER;CN="Darcy Morr":MAILTO:darcy@firstnazarene.org
END:VEVENT
BEGIN:VEVENT
DTSTART;VALUE=DATE:20220122
DTEND;VALUE=DATE:20220123
DTSTAMP:20260425T114530
CREATED:20211001T023627Z
LAST-MODIFIED:20211023T014645Z
UID:2229-1642809600-1642895999@illinoisnaz.org
SUMMARY:Team Day South
DESCRIPTION:
URL:https://illinoisnaz.org/event/team-day-south/
LOCATION:Salem Grace Church of the Nazarene\, 1900 N. Broadway\, Salem\, IL\, 62881\, United States
CATEGORIES:District
END:VEVENT
BEGIN:VEVENT
DTSTART;VALUE=DATE:20220115
DTEND;VALUE=DATE:20220116
DTSTAMP:20260425T114530
CREATED:20210921T170653Z
LAST-MODIFIED:20210921T171109Z
UID:2037-1642204800-1642291199@illinoisnaz.org
SUMMARY:TEEN QUIZZING - Romans 1-16
DESCRIPTION:
URL:https://illinoisnaz.org/event/teen-quizzing-romans-1-7-2/
LOCATION:Belleville Emmanuel Church of the Nazarene\, 8201 Old St Louis Rd\, Belleville\, IL\, 62223
CATEGORIES:NYI,Teen Quizzing
ORGANIZER;CN="Lizzy Hines":MAILTO:elizabeth111577@ymail.com
END:VEVENT
BEGIN:VEVENT
DTSTART;TZID=America/Chicago:20220108T090000
DTEND;TZID=America/Chicago:20220108T140000
DTSTAMP:20260425T114530
CREATED:20211218T034457Z
LAST-MODIFIED:20211218T211559Z
UID:2838-1641632400-1641650400@illinoisnaz.org
SUMMARY:Team Day 2022 North
DESCRIPTION:Team Day\n2022\n			\n			\n				\n				\n				\n				\n			\n				\n				\n			\n				\n				\n				\n				\n				\n				\n				\n				\n				\n				\n				\n				\n				\n				\n				\n				\n				\n				Join us for a day dedicated to sharpening your skills and learning from other Christian sisters and brothers in the ministry trenches just like you! Two breakout growing opportunities and a closing session. \nJanuary 8\, 2022 – Decatur First ChurchRegistration: 8:30amEvent: 9:00am-2:00pmRegister Now (Free) \n			\n			\n				\n				\n				\n				\n			\n				\n				\n			\n				\n				\n				\n				\n				\n				\n				\n				\n				\n				\n				\n				\n				\n				\n				\n				\n				\n				Breakout Sessions\n			\n			\n				\n				\n				\n				\n			\n				\n				\n				\n				\n				\n				\n				\n				\n				\n				\n				\n				\n				\n				\n				\n				blank\n				blank\n			\n				\n				\n				\n				\n				Sanctification 101 \n				Dr. Timothy Crutcher (Breakout Session 1 only) \nHoliness is not a complicated reality. It is actually the thread that ties together what we know about who God is\, who we are as human beings\, and how we relate to God. In this workshop\, we will present holiness and sanctification in a simple yet powerful way that makes those ideas exciting and hopeful and worth aspiring to live out. \n			\n				\n				\n				\n				\n				Facilitating: Symptoms of Survivors and Theological Comparisons after Calamities\n				Dr. James Hicks\, ONU Field SDMI Coordinator (Breakout Session 1 & 2) \nThis workshop will reveal changes within people after a national Crisis and share theological directions to assist those needs. Applications will be made from developmental psychology and can be used not only in the development of small groups but other forms of ministry. \n			\n				\n				\n				\n				\n				Small Group Ministry \n				Dr. James Hicks\, ONU Field SDMI Coordinator (Breakout Session 1 & 2) \nThis workshop will highlight some of the key elements to making Christ-like disciples that make Christ-like disciples through the ministry of small groups. Churches of every shape and size will benefit from hearing the thoughts and practices from Dr. Hicks as he shares various ways to increase discipleship through the important ministry of small groups. \n			\n				\n				\n				\n				\n				NMI President’s/Council Training \n				Ms. Kelly Love\, Kansas District NMI President (Breakout Session 2 Only) \nKelly will walk through a resource handbook that will assist you in developing your NMI program to encourage and equip your ministry in missions. \n			\n				\n				\n				\n				\n				Youth Culture Translator:   How to relate and connect with students!\n				Jared Bouton (Breakout Session 1 & 2) \nOne of the most important aspects of ministry is being and remaining relevant to those to which you are ministering. This is increasingly harder as we grow older and the age gap becomes bigger and bigger from those who are youth. Learn tactics and resources to help you be and stay relevant in the world of students today. \n			\n				\n				\n				\n				\n				Dealing with Church Finances\n				Rev. Terry Armstrong\, Carolyn Peters\, and Michelle Trambley (Breakout Session 1 & 2) \nUnderstanding the issues of audit\, pastor’s compensation pay package and the tax liability\, Funding the Mission. \n			\n				\n				\n				\n				\n				Taller de español One\n				David Samayoa (Breakout Session 1 Only) \nUna aproximación a la doctrina\, gobierno\, práctica y obra de evangelización y proclamación de Santidad de la iglesia del Nazareno. \n			\n				\n				\n				\n				\n				Taller de español Two\n				Sonia Samayoa (Breakout Session 2 Only) \nAprendiendo las formas de desarrollar una lección bíblica y con propósito para los niños de acuerdo a sus edades. \n			\n				\n				\n				\n				\n				Keynote Plenary Session\n				Dr. Mike Palmer\, Missouri District Superintendent \nMike is a dynamic communicator! He has served as a pastor\, evangelist and district superintendent. He loves Jesus\, loves people and is an effective communicator of the gospel. He will be presenting a message of encouragement and inspiration as we try to discover how to continue to navigate these difficult and discouraging days. \n			\n			\n				\n				\n				\n				\n				Register Now (Free)\n			\n			\n				\n				\n				\n				\n			\n				\n				\n			\n				\n				\n				\n				\n				\n				\n				\n				\n				\n				\n				\n				\n				\n				\n				\n				\n				\n				Schedule\n			\n				\n				\n				\n				\n				8:30am – Registration9:30am – Opening Session9:30am – Breakout Session 110:30am – Break10:45am – Breakout Session 212:00pm – Closing Plenary Session \nRegister Now (Free)
URL:https://illinoisnaz.org/event/team-day-2022-north/
LOCATION:Decatur\, First Church\, 1177 W. Hickory Point Rd\, Decatur\, IL\, 62526
CATEGORIES:District
ORGANIZER;CN="Darcy Morr":MAILTO:darcy@firstnazarene.org
END:VEVENT
BEGIN:VEVENT
DTSTART;VALUE=DATE:20220108
DTEND;VALUE=DATE:20220109
DTSTAMP:20260425T114530
CREATED:20211001T023627Z
LAST-MODIFIED:20211023T014840Z
UID:2227-1641600000-1641686399@illinoisnaz.org
SUMMARY:Team Day North
DESCRIPTION:
URL:https://illinoisnaz.org/event/team-day-north/
LOCATION:Decatur\, First Church\, 1177 W. Hickory Point Rd\, Decatur\, IL\, 62526
CATEGORIES:District
END:VEVENT
BEGIN:VEVENT
DTSTART;VALUE=DATE:20211203
DTEND;VALUE=DATE:20211205
DTSTAMP:20260425T114530
CREATED:20210921T170653Z
LAST-MODIFIED:20211023T014248Z
UID:2042-1638489600-1638662399@illinoisnaz.org
SUMMARY:TEEN QUIZZING - St. Louis Top Ten
DESCRIPTION:
URL:https://illinoisnaz.org/event/teen-quizzing-romans-1-7-2-2-2/
LOCATION:TBD
CATEGORIES:Teen Quizzing
ORGANIZER;CN="Lizzy Hines":MAILTO:elizabeth111577@ymail.com
END:VEVENT
BEGIN:VEVENT
DTSTART;TZID=America/Chicago:20211112T190000
DTEND;TZID=America/Chicago:20211114T130000
DTSTAMP:20260425T114530
CREATED:20210919T015411Z
LAST-MODIFIED:20210919T020722Z
UID:1962-1636743600-1636894800@illinoisnaz.org
SUMMARY:NYI Spiritual Life Retreat
DESCRIPTION:7 pm Friday – After Lunch\, Sunday\nEarly Bird Registration: Sept. 15 – Oct 15@ $115\nStandard Registration: Oct. 15 – 31 @ $125\nOct. 31 is the registration DEADLINE\nMust be postmarked by 10/31\nEagle Crest Camp & Retreat Center\nCHECK IT OUT!\n823 Columbia Rd\nWashburn\, IL Approximately 30 miles northeast of Peoria!
URL:https://illinoisnaz.org/event/nyi-spiritual-life-retreat/
LOCATION:Eagle Crest Camp & Retreat Center\, 823 Columbia Rd\, Washburn\, IL\, United States
CATEGORIES:District,NYI
END:VEVENT
BEGIN:VEVENT
DTSTART;VALUE=DATE:20211109
DTEND;VALUE=DATE:20211112
DTSTAMP:20260425T114530
CREATED:20210921T225354Z
LAST-MODIFIED:20210921T225354Z
UID:2072-1636416000-1636675199@illinoisnaz.org
SUMMARY:USA/Canada Regional SDMI Leadership Conference
DESCRIPTION:
URL:https://illinoisnaz.org/event/usa-canada-regional-sdmi-leadership-conference/
CATEGORIES:NDI
END:VEVENT
BEGIN:VEVENT
DTSTART;TZID=America/Chicago:20211106T100000
DTEND;TZID=America/Chicago:20211106T170000
DTSTAMP:20260425T114530
CREATED:20211101T032043Z
LAST-MODIFIED:20211101T032043Z
UID:2556-1636192800-1636218000@illinoisnaz.org
SUMMARY:TEEN QUIZZING - Romans 1-10
DESCRIPTION:
URL:https://illinoisnaz.org/event/teen-quizzing-romans-1-10/
LOCATION:Decatur\, First Church\, 1177 W. Hickory Point Rd\, Decatur\, IL\, 62526
CATEGORIES:NYI
END:VEVENT
BEGIN:VEVENT
DTSTART;VALUE=DATE:20211105
DTEND;VALUE=DATE:20211107
DTSTAMP:20260425T114530
CREATED:20210921T025348Z
LAST-MODIFIED:20210921T230926Z
UID:2006-1636070400-1636243199@illinoisnaz.org
SUMMARY:CPR (Church Planting Refresher)
DESCRIPTION:All pastors and church leaders are encouraged to participate in this training. It helps develop a heart to help plant churches \nRegister by emailing office@illininaz.org. \nHotel block at Holiday Inn Express\, Use this LINK to make reservations.
URL:https://illinoisnaz.org/event/cpr-church-planting-refresher/
CATEGORIES:District
END:VEVENT
BEGIN:VEVENT
DTSTART;VALUE=DATE:20211030
DTEND;VALUE=DATE:20211031
DTSTAMP:20260425T114530
CREATED:20210921T025152Z
LAST-MODIFIED:20210921T025152Z
UID:2004-1635552000-1635638399@illinoisnaz.org
SUMMARY:District Advisory Board
DESCRIPTION:
URL:https://illinoisnaz.org/event/district-advisory-board/
LOCATION:District Office\, 2 Chestnut Court\, Bethalto\, IL\, 62010\, United States
CATEGORIES:District
END:VEVENT
BEGIN:VEVENT
DTSTART;VALUE=DATE:20211021
DTEND;VALUE=DATE:20211024
DTSTAMP:20260425T114530
CREATED:20210921T025022Z
LAST-MODIFIED:20210921T025022Z
UID:2002-1634774400-1635033599@illinoisnaz.org
SUMMARY:Olivet Homecoming
DESCRIPTION:
URL:https://illinoisnaz.org/event/olivet-homecoming/
LOCATION:Olivet Nazarene University\, ONE UNIVERSITY AVE\, BOURBONNAIS\, IL\, 60914\, United States
CATEGORIES:District
END:VEVENT
BEGIN:VEVENT
DTSTART;VALUE=DATE:20211016
DTEND;VALUE=DATE:20211017
DTSTAMP:20260425T114530
CREATED:20210921T024113Z
LAST-MODIFIED:20210921T024113Z
UID:1997-1634342400-1634428799@illinoisnaz.org
SUMMARY:District M.I.T.
DESCRIPTION:
URL:https://illinoisnaz.org/event/district-m-i-t/
LOCATION:Pana First Church of the Nazarene\, 1200 E. 6th St.\, Pana\, Illinois\, 62557
CATEGORIES:District
END:VEVENT
BEGIN:VEVENT
DTSTART;VALUE=DATE:20211012
DTEND;VALUE=DATE:20211021
DTSTAMP:20260425T114530
CREATED:20210921T030919Z
LAST-MODIFIED:20210921T180437Z
UID:2009-1633996800-1634774399@illinoisnaz.org
SUMMARY:District Zone Missionary Tour w/ Bruce & Cinda McKellips
DESCRIPTION:Bruce & Cinda are currently serving in Lis-bon\, Portugal. Bruce is the Field Strategy Coordinator for the Western Mediterranean Field (Portugal\, Spain\, France\, Italy and Greece) and Cinda is the West Med Field treasurer. \nOct 12 – Illinois River Area – Mt. Sterling\, 7:00 pm\nOct 13 – Champaign Area – Champaign First\, 6:30 pm\nOct 14 – Olivet Area – Olivet\, 7:00 pm\nOct 15 – Mattoon Area – Effingham Hispanic\, 7:00 pm\nOct 16 – Decatur Area – Clinton\, 6:00 pm\nOct 17 – Belleville Emmanuel\, 10:30 am\nOct 17 – Metro Area – Roxanna\, 6:00 pm\nOct 18 – Springfield Area – Sherman\, 7:00 pm\nOct 19 – Olney Area – Mt. Erie\, 7:00 pm\nOct 20 -Mt. Vernon & Murphysboro Area – Anna First\, 7:00 pm \n 
URL:https://illinoisnaz.org/event/district-zone-missionary-tour-w-bruce-cinda-mckellips/
CATEGORIES:NMI
END:VEVENT
BEGIN:VEVENT
DTSTART;VALUE=DATE:20211009
DTEND;VALUE=DATE:20211010
DTSTAMP:20260425T114530
CREATED:20210921T170653Z
LAST-MODIFIED:20210921T170653Z
UID:2030-1633737600-1633823999@illinoisnaz.org
SUMMARY:TEEN QUIZZING - Romans 1-7
DESCRIPTION:
URL:https://illinoisnaz.org/event/teen-quizzing-romans-1-7/
LOCATION:Effingham Hispanic\, 16450 N. Nazarene Rd.\, EffinghamIL\,\, Illinois\, 62401
CATEGORIES:NYI,Teen Quizzing
ORGANIZER;CN="Lizzy Hines":MAILTO:elizabeth111577@ymail.com
END:VEVENT
BEGIN:VEVENT
DTSTART;VALUE=DATE:20211009
DTEND;VALUE=DATE:20211010
DTSTAMP:20260425T114530
CREATED:20210919T022733Z
LAST-MODIFIED:20210919T024548Z
UID:1976-1633737600-1633823999@illinoisnaz.org
SUMMARY:District SDMI Council Meeting
DESCRIPTION:
URL:https://illinoisnaz.org/event/district-nmi-council-meeting-2/
LOCATION:TBD
CATEGORIES:NDI
END:VEVENT
BEGIN:VEVENT
DTSTART;VALUE=DATE:20211001
DTEND;VALUE=DATE:20211004
DTSTAMP:20260425T114530
CREATED:20210919T022733Z
LAST-MODIFIED:20210919T030206Z
UID:1969-1633046400-1633305599@illinoisnaz.org
SUMMARY:m&m Retreat
DESCRIPTION: 
URL:https://illinoisnaz.org/event/district-nmi-council-meeting/
LOCATION:Embassy Suites\, St. Charles\, MO\, United States
CATEGORIES:District
END:VEVENT
BEGIN:VEVENT
DTSTART;VALUE=DATE:20210925
DTEND;VALUE=DATE:20210926
DTSTAMP:20260425T114530
CREATED:20210921T023343Z
LAST-MODIFIED:20210921T023343Z
UID:1995-1632528000-1632614399@illinoisnaz.org
SUMMARY:District NMI Council Meeting
DESCRIPTION:
URL:https://illinoisnaz.org/event/district-nmi-council-meeting-3/
LOCATION:TBD
CATEGORIES:NMI
END:VEVENT
END:VCALENDAR