BEGIN:VCALENDAR
VERSION:2.0
PRODID:-//Illinois District Church of the Nazarene - ECPv6.15.20//NONSGML v1.0//EN
CALSCALE:GREGORIAN
METHOD:PUBLISH
X-WR-CALNAME:Illinois District Church of the Nazarene
X-ORIGINAL-URL:https://illinoisnaz.org
X-WR-CALDESC:Events for Illinois District Church of the Nazarene
REFRESH-INTERVAL;VALUE=DURATION:PT1H
X-Robots-Tag:noindex
X-PUBLISHED-TTL:PT1H
BEGIN:VTIMEZONE
TZID:America/Chicago
BEGIN:DAYLIGHT
TZOFFSETFROM:-0600
TZOFFSETTO:-0500
TZNAME:CDT
DTSTART:20220313T080000
END:DAYLIGHT
BEGIN:STANDARD
TZOFFSETFROM:-0500
TZOFFSETTO:-0600
TZNAME:CST
DTSTART:20221106T070000
END:STANDARD
BEGIN:DAYLIGHT
TZOFFSETFROM:-0600
TZOFFSETTO:-0500
TZNAME:CDT
DTSTART:20230312T080000
END:DAYLIGHT
BEGIN:STANDARD
TZOFFSETFROM:-0500
TZOFFSETTO:-0600
TZNAME:CST
DTSTART:20231105T070000
END:STANDARD
BEGIN:DAYLIGHT
TZOFFSETFROM:-0600
TZOFFSETTO:-0500
TZNAME:CDT
DTSTART:20240310T080000
END:DAYLIGHT
BEGIN:STANDARD
TZOFFSETFROM:-0500
TZOFFSETTO:-0600
TZNAME:CST
DTSTART:20241103T070000
END:STANDARD
END:VTIMEZONE
BEGIN:VEVENT
DTSTART;TZID=America/Chicago:20230721T083000
DTEND;TZID=America/Chicago:20230721T103000
DTSTAMP:20260425T102539
CREATED:20230517T182451Z
LAST-MODIFIED:20230517T183330Z
UID:5918-1689928200-1689935400@illinoisnaz.org
SUMMARY:District NDI Convention
DESCRIPTION:– Speaker: Dr. Scott Rainey
URL:https://illinoisnaz.org/event/district-ndi-convention-speaker-dr-scott-rainey/
CATEGORIES:District,NDI
END:VEVENT
BEGIN:VEVENT
DTSTART;TZID=America/Chicago:20230720T190000
DTEND;TZID=America/Chicago:20230720T230000
DTSTAMP:20260425T102539
CREATED:20230517T182111Z
LAST-MODIFIED:20230517T183557Z
UID:5914-1689879600-1689894000@illinoisnaz.org
SUMMARY:District NYI Convention
DESCRIPTION: – Speaker: Dr. Jeff Stark
URL:https://illinoisnaz.org/event/nyi-convention/
CATEGORIES:District,NYI
END:VEVENT
BEGIN:VEVENT
DTSTART;VALUE=DATE:20230720
DTEND;VALUE=DATE:20230723
DTSTAMP:20260425T102539
CREATED:20211001T030046Z
LAST-MODIFIED:20230517T181833Z
UID:2264-1689811200-1690070399@illinoisnaz.org
SUMMARY:District Gathering Celebration (Conventions & Assembly)
DESCRIPTION:Thursday\, 7:00 pm – NYI Convention \nFriday\, 8:30 am – NDI Convention \nFriday\, 1:30 pm – NMI Convention \nFriday\, 7:00 pm – District Assembly & Ordination Service \nSaturday\, 8:30 am District Assembly
URL:https://illinoisnaz.org/event/district-gathering-celebration-conventions-assembly-23/
CATEGORIES:District,NDI,NMI,NYI
END:VEVENT
BEGIN:VEVENT
DTSTART;TZID=America/Chicago:20230717T100000
DTEND;TZID=America/Chicago:20230717T130000
DTSTAMP:20260425T102539
CREATED:20230717T161808Z
LAST-MODIFIED:20230717T161808Z
UID:6258-1689588000-1689598800@illinoisnaz.org
SUMMARY:District Advisory Board meeting
DESCRIPTION:The District Advisory Board will be meeting online.
URL:https://illinoisnaz.org/event/district-advisory-board-meeting-5/
CATEGORIES:District,District Advisory Board
END:VEVENT
BEGIN:VEVENT
DTSTART;VALUE=DATE:20230710
DTEND;VALUE=DATE:20230715
DTSTAMP:20260425T102539
CREATED:20211216T030020Z
LAST-MODIFIED:20230127T155616Z
UID:2830-1688947200-1689379199@illinoisnaz.org
SUMMARY:Kid’s Camp
DESCRIPTION:Camp will be held at Passion Church outside of Decatur. \nNDI Children’s Camp Forms\n 
URL:https://illinoisnaz.org/event/kids-camp/
LOCATION:Passion Church Campus (Camp Warren)\, 4225 Camp Warren Lane\, Decatur\, IL\, 62521\, United States
CATEGORIES:District,NDI
END:VEVENT
BEGIN:VEVENT
DTSTART;VALUE=DATE:20230703
DTEND;VALUE=DATE:20230710
DTSTAMP:20260425T102539
CREATED:20211001T144705Z
LAST-MODIFIED:20220821T201032Z
UID:2262-1688342400-1688947199@illinoisnaz.org
SUMMARY:Nazarene Youth Conference
DESCRIPTION:Tampa Bay\, Florida
URL:https://illinoisnaz.org/event/nazarene-youth-conference/
CATEGORIES:NYI
END:VEVENT
BEGIN:VEVENT
DTSTART;VALUE=DATE:20230630
DTEND;VALUE=DATE:20230701
DTSTAMP:20260425T102539
CREATED:20230517T181242Z
LAST-MODIFIED:20230517T181242Z
UID:5910-1688083200-1688169599@illinoisnaz.org
SUMMARY:Registration Deadline for Children’s Camp - $250
DESCRIPTION:
URL:https://illinoisnaz.org/event/registration-deadline-for-childrens-camp-250/
CATEGORIES:District,NDI
END:VEVENT
BEGIN:VEVENT
DTSTART;VALUE=DATE:20230626
DTEND;VALUE=DATE:20230701
DTSTAMP:20260425T102539
CREATED:20211216T180048Z
LAST-MODIFIED:20221029T223026Z
UID:2826-1687737600-1688169599@illinoisnaz.org
SUMMARY:Teen Camp
DESCRIPTION:Speaker: Atonio “Tone” Marshall\, ONU Chaplain
URL:https://illinoisnaz.org/event/teen-camp-3/
LOCATION:Camp Table Rock\, 2079 Peninsula Drive\, Shell Knob\, MO\, 65747\, United States
CATEGORIES:NYI
END:VEVENT
BEGIN:VEVENT
DTSTART;VALUE=DATE:20230609
DTEND;VALUE=DATE:20230617
DTSTAMP:20260425T102539
CREATED:20211001T144451Z
LAST-MODIFIED:20221029T222828Z
UID:2258-1686268800-1686959999@illinoisnaz.org
SUMMARY:General Conventions & General Assembly
DESCRIPTION:
URL:https://illinoisnaz.org/event/general-conventions-general-assembly/
LOCATION:Indianapolis
CATEGORIES:District,NDI,NMI,NYI
END:VEVENT
BEGIN:VEVENT
DTSTART;VALUE=DATE:20230604
DTEND;VALUE=DATE:20230605
DTSTAMP:20260425T102539
CREATED:20230517T180945Z
LAST-MODIFIED:20230517T180945Z
UID:5908-1685836800-1685923199@illinoisnaz.org
SUMMARY:Registration Deadline for Youth Camp - $425
DESCRIPTION:
URL:https://illinoisnaz.org/event/registration-deadline-for-youth-camp-425/
CATEGORIES:District,NYI
END:VEVENT
BEGIN:VEVENT
DTSTART;VALUE=DATE:20230531
DTEND;VALUE=DATE:20230601
DTSTAMP:20260425T102539
CREATED:20230517T180739Z
LAST-MODIFIED:20230517T180739Z
UID:5906-1685491200-1685577599@illinoisnaz.org
SUMMARY:Early Bird Deadline for Children’s Camp - $225
DESCRIPTION:
URL:https://illinoisnaz.org/event/early-bird-deadline-for-childrens-camp-225/
CATEGORIES:District,NDI
END:VEVENT
BEGIN:VEVENT
DTSTART;VALUE=DATE:20230528
DTEND;VALUE=DATE:20230529
DTSTAMP:20260425T102539
CREATED:20230517T180616Z
LAST-MODIFIED:20230517T180616Z
UID:5904-1685232000-1685318399@illinoisnaz.org
SUMMARY:Pentecost Sunday
DESCRIPTION:
URL:https://illinoisnaz.org/event/pentecost-sunday/
CATEGORIES:District
END:VEVENT
BEGIN:VEVENT
DTSTART;VALUE=DATE:20230521
DTEND;VALUE=DATE:20230522
DTSTAMP:20260425T102539
CREATED:20230517T180525Z
LAST-MODIFIED:20230517T180525Z
UID:5902-1684627200-1684713599@illinoisnaz.org
SUMMARY:Early Bird Deadline for Youth Camp - $365
DESCRIPTION:
URL:https://illinoisnaz.org/event/early-bird-deadline-for-youth-camp-365/
CATEGORIES:District,NYI
END:VEVENT
BEGIN:VEVENT
DTSTART;VALUE=DATE:20230516
DTEND;VALUE=DATE:20230517
DTSTAMP:20260425T102539
CREATED:20221216T025847Z
LAST-MODIFIED:20221216T025847Z
UID:4714-1684195200-1684281599@illinoisnaz.org
SUMMARY:ANNUAL PASTOR’S REPORTS DUE
DESCRIPTION:
URL:https://illinoisnaz.org/event/annual-pastors-reports-due/
END:VEVENT
BEGIN:VEVENT
DTSTART;VALUE=DATE:20230511
DTEND;VALUE=DATE:20230514
DTSTAMP:20260425T102539
CREATED:20220623T022110Z
LAST-MODIFIED:20220623T022110Z
UID:3680-1683763200-1684022399@illinoisnaz.org
SUMMARY:Olivet Regional Celebrate Life
DESCRIPTION:
URL:https://illinoisnaz.org/event/olivet-regional-celebrate-life/
LOCATION:Olivet Nazarene University\, ONE UNIVERSITY AVE\, BOURBONNAIS\, IL\, 60914\, United States
CATEGORIES:NYI
END:VEVENT
BEGIN:VEVENT
DTSTART;VALUE=DATE:20230510
DTEND;VALUE=DATE:20230511
DTSTAMP:20260425T102539
CREATED:20230104T194226Z
LAST-MODIFIED:20230104T194226Z
UID:4835-1683676800-1683763199@illinoisnaz.org
SUMMARY:ONU Baccalaureate
DESCRIPTION:
URL:https://illinoisnaz.org/event/onu-baccalaureate-2/
END:VEVENT
BEGIN:VEVENT
DTSTART;TZID=America/Chicago:20230506T093000
DTEND;TZID=America/Chicago:20230506T170000
DTSTAMP:20260425T102539
CREATED:20230104T181953Z
LAST-MODIFIED:20230104T181953Z
UID:4809-1683365400-1683392400@illinoisnaz.org
SUMMARY:ONU Commencement
DESCRIPTION:
URL:https://illinoisnaz.org/event/onu-commencement/
END:VEVENT
BEGIN:VEVENT
DTSTART;TZID=America/Chicago:20230505T193000
DTEND;TZID=America/Chicago:20230505T210000
DTSTAMP:20260425T102539
CREATED:20230104T181807Z
LAST-MODIFIED:20230104T181807Z
UID:4807-1683315000-1683320400@illinoisnaz.org
SUMMARY:ONU Baccalaureate
DESCRIPTION:
URL:https://illinoisnaz.org/event/onu-baccalaureate/
END:VEVENT
BEGIN:VEVENT
DTSTART;VALUE=DATE:20230504
DTEND;VALUE=DATE:20230505
DTSTAMP:20260425T102539
CREATED:20230104T181127Z
LAST-MODIFIED:20230104T181127Z
UID:4805-1683158400-1683244799@illinoisnaz.org
SUMMARY:ONU Board of Trustees Meeting
DESCRIPTION:
URL:https://illinoisnaz.org/event/onu-board-of-trustees-meeting/
END:VEVENT
BEGIN:VEVENT
DTSTART;VALUE=DATE:20230429
DTEND;VALUE=DATE:20230430
DTSTAMP:20260425T102539
CREATED:20211001T024957Z
LAST-MODIFIED:20211216T183114Z
UID:2256-1682726400-1682812799@illinoisnaz.org
SUMMARY:Board of Ministry Meeting
DESCRIPTION:Ordinand & First Time District License Interviews
URL:https://illinoisnaz.org/event/board-of-ministry-meeting-23-2/
LOCATION:Mattoon East Side\, 2129 S. 9th St.\, Mattoon\, IL\, 61938\, United States
CATEGORIES:District
END:VEVENT
BEGIN:VEVENT
DTSTART;VALUE=DATE:20230422
DTEND;VALUE=DATE:20230423
DTSTAMP:20260425T102539
CREATED:20230104T180840Z
LAST-MODIFIED:20230104T180840Z
UID:4802-1682121600-1682207999@illinoisnaz.org
SUMMARY:ONU Ladies Day
DESCRIPTION:
URL:https://illinoisnaz.org/event/onu-ladies-day/
CATEGORIES:District
END:VEVENT
BEGIN:VEVENT
DTSTART;VALUE=DATE:20230422
DTEND;VALUE=DATE:20230423
DTSTAMP:20260425T102539
CREATED:20220821T200843Z
LAST-MODIFIED:20221216T025606Z
UID:3932-1682121600-1682207999@illinoisnaz.org
SUMMARY:District Men of Purpose Conference - South\, with Kevin Donoho
DESCRIPTION:
URL:https://illinoisnaz.org/event/district-mens-day-south/
LOCATION:Salem Grace Church of the Nazarene\, 1900 N. Broadway\, Salem\, IL\, 62881\, United States
CATEGORIES:District,NDI
END:VEVENT
BEGIN:VEVENT
DTSTART;VALUE=DATE:20230415
DTEND;VALUE=DATE:20230416
DTSTAMP:20260425T102539
CREATED:20220821T200615Z
LAST-MODIFIED:20220821T200615Z
UID:3929-1681516800-1681603199@illinoisnaz.org
SUMMARY:District Children’s Quiz
DESCRIPTION:
URL:https://illinoisnaz.org/event/district-childrens-quiz-2/
LOCATION:Springfield First
CATEGORIES:District,NDI
END:VEVENT
BEGIN:VEVENT
DTSTART;VALUE=DATE:20230409
DTEND;VALUE=DATE:20230410
DTSTAMP:20260425T102539
CREATED:20230104T180722Z
LAST-MODIFIED:20230104T180722Z
UID:4800-1680998400-1681084799@illinoisnaz.org
SUMMARY:Easter Sunday
DESCRIPTION:
URL:https://illinoisnaz.org/event/easter-sunday/
CATEGORIES:District
END:VEVENT
BEGIN:VEVENT
DTSTART;VALUE=DATE:20230402
DTEND;VALUE=DATE:20230403
DTSTAMP:20260425T102539
CREATED:20230104T180627Z
LAST-MODIFIED:20230104T180627Z
UID:4798-1680393600-1680479999@illinoisnaz.org
SUMMARY:Palm Sunday
DESCRIPTION:
URL:https://illinoisnaz.org/event/palm-sunday/
CATEGORIES:District
END:VEVENT
BEGIN:VEVENT
DTSTART;TZID=America/Chicago:20230328T190000
DTEND;TZID=America/Chicago:20230328T210000
DTSTAMP:20260425T102539
CREATED:20230211T223857Z
LAST-MODIFIED:20230227T011353Z
UID:5237-1680030000-1680037200@illinoisnaz.org
SUMMARY:Missions Rally - Mount Erie Church of the Nazarene
DESCRIPTION:
URL:https://illinoisnaz.org/event/missions-rally-2-2-2-2-3-2-2/
LOCATION:Mount Erie Church of the Nazarene\, 2481 Co. Rd.Hwy. 2\, Mount Erie\, IL\, 62446\, United States
CATEGORIES:District,NMI
END:VEVENT
BEGIN:VEVENT
DTSTART;TZID=America/Chicago:20230327T190000
DTEND;TZID=America/Chicago:20230327T210000
DTSTAMP:20260425T102539
CREATED:20230211T223857Z
LAST-MODIFIED:20230227T011200Z
UID:5234-1679943600-1679950800@illinoisnaz.org
SUMMARY:Missions Rally - Oasis Community
DESCRIPTION:
URL:https://illinoisnaz.org/event/missions-rally-2-2-2-2-3-2/
LOCATION:Oasis Community\, 2101 McHaney Rd.\, Harrisburg\, IL\, 62946\, United States
CATEGORIES:District,NMI
END:VEVENT
BEGIN:VEVENT
DTSTART;TZID=America/Chicago:20230326T180000
DTEND;TZID=America/Chicago:20230326T210000
DTSTAMP:20260425T102539
CREATED:20230211T223857Z
LAST-MODIFIED:20230227T011111Z
UID:5231-1679853600-1679864400@illinoisnaz.org
SUMMARY:Missions Rally - Glenview Church of the Nazarene
DESCRIPTION:
URL:https://illinoisnaz.org/event/missions-rally-2-2-2-2-3/
LOCATION:Glenview Church of the Nazarene\, 400 Glen Carbon Rd.\, Glen Carbon\, IL\, 62034\, United States
CATEGORIES:District,NMI
END:VEVENT
BEGIN:VEVENT
DTSTART;VALUE=DATE:20230325
DTEND;VALUE=DATE:20230326
DTSTAMP:20260425T102539
CREATED:20220821T200324Z
LAST-MODIFIED:20221118T210223Z
UID:3927-1679702400-1679788799@illinoisnaz.org
SUMMARY:District Women's Day
DESCRIPTION:
URL:https://illinoisnaz.org/event/district-womens-day/
CATEGORIES:District,NDI
END:VEVENT
BEGIN:VEVENT
DTSTART;TZID=America/Chicago:20230322T190000
DTEND;TZID=America/Chicago:20230322T210000
DTSTAMP:20260425T102539
CREATED:20230211T223857Z
LAST-MODIFIED:20230227T011008Z
UID:5227-1679511600-1679518800@illinoisnaz.org
SUMMARY:Missions Rally - Quincy Emmanuel Church of the Nazarene
DESCRIPTION:
URL:https://illinoisnaz.org/event/missions-rally-2-2-2-2-2/
LOCATION:Quincy Emmanuel Church of the Nazarene\, 1527 Madison\, Quincy\, IL\, 62301\, United States
CATEGORIES:District,NMI
END:VEVENT
END:VCALENDAR