BEGIN:VCALENDAR
VERSION:2.0
PRODID:-//Illinois District Church of the Nazarene - ECPv6.15.20//NONSGML v1.0//EN
CALSCALE:GREGORIAN
METHOD:PUBLISH
X-WR-CALNAME:Illinois District Church of the Nazarene
X-ORIGINAL-URL:https://illinoisnaz.org
X-WR-CALDESC:Events for Illinois District Church of the Nazarene
REFRESH-INTERVAL;VALUE=DURATION:PT1H
X-Robots-Tag:noindex
X-PUBLISHED-TTL:PT1H
BEGIN:VTIMEZONE
TZID:America/Chicago
BEGIN:DAYLIGHT
TZOFFSETFROM:-0600
TZOFFSETTO:-0500
TZNAME:CDT
DTSTART:20220313T080000
END:DAYLIGHT
BEGIN:STANDARD
TZOFFSETFROM:-0500
TZOFFSETTO:-0600
TZNAME:CST
DTSTART:20221106T070000
END:STANDARD
BEGIN:DAYLIGHT
TZOFFSETFROM:-0600
TZOFFSETTO:-0500
TZNAME:CDT
DTSTART:20230312T080000
END:DAYLIGHT
BEGIN:STANDARD
TZOFFSETFROM:-0500
TZOFFSETTO:-0600
TZNAME:CST
DTSTART:20231105T070000
END:STANDARD
BEGIN:DAYLIGHT
TZOFFSETFROM:-0600
TZOFFSETTO:-0500
TZNAME:CDT
DTSTART:20240310T080000
END:DAYLIGHT
BEGIN:STANDARD
TZOFFSETFROM:-0500
TZOFFSETTO:-0600
TZNAME:CST
DTSTART:20241103T070000
END:STANDARD
END:VTIMEZONE
BEGIN:VEVENT
DTSTART;VALUE=DATE:20231028
DTEND;VALUE=DATE:20231029
DTSTAMP:20260425T074614
CREATED:20230728T210341Z
LAST-MODIFIED:20231016T022715Z
UID:6425-1698451200-1698537599@illinoisnaz.org
SUMMARY:IL District Prime Time Day w/Tony Fightmaster
DESCRIPTION:Prime Time
URL:https://illinoisnaz.org/event/il-district-prime-time-day-w-tony-fightmaster/
LOCATION:Salem Grace Church of the Nazarene\, 1900 N. Broadway\, Salem\, IL\, 62881\, United States
CATEGORIES:District,NDI
END:VEVENT
BEGIN:VEVENT
DTSTART;TZID=America/Chicago:20231021T100000
DTEND;TZID=America/Chicago:20231021T120000
DTSTAMP:20260425T074614
CREATED:20231015T004320Z
LAST-MODIFIED:20231015T004414Z
UID:6855-1697882400-1697889600@illinoisnaz.org
SUMMARY:Pastor’s Workshop
DESCRIPTION:Presenter: Dr. Jerry Porter. Dr. Porter has served\nthe church has General Superintendent\, District\nSuperintendent\, Missionary\, and Pastor.\nTheme: The Doctrine of Sacrament\nCost: FREE\nCall David Samayoa @ 618-660-0274 to reserve a spot.\n3725 Horseshoe Lake Road\, Granite City\, IL 62040
URL:https://illinoisnaz.org/event/pastors-workshop/
LOCATION:Granite City Iglesia del Nazareno
CATEGORIES:District
END:VEVENT
BEGIN:VEVENT
DTSTART;VALUE=DATE:20231020
DTEND;VALUE=DATE:20231021
DTSTAMP:20260425T074614
CREATED:20230818T201526Z
LAST-MODIFIED:20230818T201526Z
UID:6524-1697760000-1697846399@illinoisnaz.org
SUMMARY:Theology of Sacrament w/ Dr. Jerry Porter
DESCRIPTION:
URL:https://illinoisnaz.org/event/theology-of-sacrament-w-dr-jerry-porter/
LOCATION:Granite City Hispanic\, 3725 Horseshoe Lake Rd\, Granite City\, IL\, 62040
CATEGORIES:District
END:VEVENT
BEGIN:VEVENT
DTSTART;TZID=America/Chicago:20231007T090000
DTEND;TZID=America/Chicago:20231007T130000
DTSTAMP:20260425T074614
CREATED:20230104T183219Z
LAST-MODIFIED:20230728T211213Z
UID:4814-1696669200-1696683600@illinoisnaz.org
SUMMARY:Teen Bible Quiz
DESCRIPTION:
URL:https://illinoisnaz.org/event/teen-bible-quiz-2/
LOCATION:IL
CATEGORIES:District,NYI,Teen Quizzing
END:VEVENT
BEGIN:VEVENT
DTSTART;VALUE=DATE:20231005
DTEND;VALUE=DATE:20231006
DTSTAMP:20260425T074614
CREATED:20230104T192318Z
LAST-MODIFIED:20230104T192318Z
UID:4821-1696464000-1696550399@illinoisnaz.org
SUMMARY:ONU Prime Time Day
DESCRIPTION:
URL:https://illinoisnaz.org/event/onu-prime-time-day/
LOCATION:IL
END:VEVENT
BEGIN:VEVENT
DTSTART;VALUE=DATE:20231003
DTEND;VALUE=DATE:20231005
DTSTAMP:20260425T074614
CREATED:20230104T192215Z
LAST-MODIFIED:20230104T192215Z
UID:4819-1696291200-1696463999@illinoisnaz.org
SUMMARY:ONU Board of Trustees Meeting
DESCRIPTION:
URL:https://illinoisnaz.org/event/onu-board-of-trustees-meeting-2/
LOCATION:IL
END:VEVENT
BEGIN:VEVENT
DTSTART;VALUE=DATE:20230922
DTEND;VALUE=DATE:20230925
DTSTAMP:20260425T074614
CREATED:20210919T022733Z
LAST-MODIFIED:20221216T030420Z
UID:2266-1695340800-1695599999@illinoisnaz.org
SUMMARY:m&m Retreat
DESCRIPTION: 
URL:https://illinoisnaz.org/event/district-mm-retreat23/
LOCATION:Embassy Suites\, St. Charles\, MO\, United States
CATEGORIES:District
END:VEVENT
BEGIN:VEVENT
DTSTART;VALUE=DATE:20230915
DTEND;VALUE=DATE:20230918
DTSTAMP:20260425T074614
CREATED:20230517T184319Z
LAST-MODIFIED:20230717T172127Z
UID:5935-1694736000-1694995199@illinoisnaz.org
SUMMARY:Adult Reignite & Renew Retreat
DESCRIPTION:
URL:https://illinoisnaz.org/event/adult-reignite-renew-retreat/
LOCATION:Pinecrest Campground\, 1252 Hwy C.\, Fredericktown\, MO\, 63645\, United States
CATEGORIES:District,NDI
END:VEVENT
BEGIN:VEVENT
DTSTART;TZID=America/Chicago:20230914T190000
DTEND;TZID=America/Chicago:20230914T200000
DTSTAMP:20260425T074614
CREATED:20230728T205703Z
LAST-MODIFIED:20230728T205703Z
UID:6422-1694718000-1694721600@illinoisnaz.org
SUMMARY:Missions Rally - East Central Zone
DESCRIPTION:
URL:https://illinoisnaz.org/event/missions-rally-east-central-zone/
LOCATION:Casey\, 1000 E US Hwy 40\, Casey\, IL\, 62420
CATEGORIES:District,NMI
END:VEVENT
BEGIN:VEVENT
DTSTART;TZID=America/Chicago:20230912T190000
DTEND;TZID=America/Chicago:20230912T200000
DTSTAMP:20260425T074614
CREATED:20230728T205430Z
LAST-MODIFIED:20230728T205430Z
UID:6419-1694545200-1694548800@illinoisnaz.org
SUMMARY:Missions Rally - North East Zone
DESCRIPTION:
URL:https://illinoisnaz.org/event/missions-rally-north-east-zone/
LOCATION:Ogden\, 206 N Market St\, Ogden\, IL\, 61859
CATEGORIES:District,NMI
END:VEVENT
BEGIN:VEVENT
DTSTART;TZID=America/Chicago:20230911T190000
DTEND;TZID=America/Chicago:20230911T200000
DTSTAMP:20260425T074614
CREATED:20230728T201154Z
LAST-MODIFIED:20230803T125052Z
UID:6413-1694458800-1694462400@illinoisnaz.org
SUMMARY:Missions Rally - Southern Zone
DESCRIPTION:
URL:https://illinoisnaz.org/event/missions-rally-southern-zone-3/
LOCATION:Marion First
CATEGORIES:District,NMI
END:VEVENT
BEGIN:VEVENT
DTSTART;TZID=America/Chicago:20230910T180000
DTEND;TZID=America/Chicago:20230910T190000
DTSTAMP:20260425T074614
CREATED:20230728T200925Z
LAST-MODIFIED:20230728T204709Z
UID:6410-1694368800-1694372400@illinoisnaz.org
SUMMARY:Missions Rally - North Central Zone
DESCRIPTION:
URL:https://illinoisnaz.org/event/missions-rally-north-central-zone/
LOCATION:Clinton\, 1200 Kleemann Dr\, Clinton\, IL\, 61727
CATEGORIES:District,NMI
END:VEVENT
BEGIN:VEVENT
DTSTART;TZID=America/Chicago:20230909T090000
DTEND;TZID=America/Chicago:20230909T130000
DTSTAMP:20260425T074614
CREATED:20230717T165526Z
LAST-MODIFIED:20230717T165526Z
UID:6262-1694250000-1694264400@illinoisnaz.org
SUMMARY:Teen Quiz
DESCRIPTION:The District Teen Quiz will be this Saturday.
URL:https://illinoisnaz.org/event/teen-quiz/
LOCATION:IL
CATEGORIES:District,NYI,Teen Quizzing
END:VEVENT
BEGIN:VEVENT
DTSTART;TZID=America/Chicago:20230907T190000
DTEND;TZID=America/Chicago:20230907T200000
DTSTAMP:20260425T074614
CREATED:20230728T200713Z
LAST-MODIFIED:20230728T201902Z
UID:6408-1694113200-1694116800@illinoisnaz.org
SUMMARY:Missions Rally - Illinois River Zone
DESCRIPTION:
URL:https://illinoisnaz.org/event/missions-rally-illinois-river-zone/
LOCATION:Beardstown Church of the Nazarene\, 919 Jackson\, Beardstown\, IL\, 62618\, United States
CATEGORIES:District,NMI
END:VEVENT
BEGIN:VEVENT
DTSTART;TZID=America/Chicago:20230906T190000
DTEND;TZID=America/Chicago:20230906T200000
DTSTAMP:20260425T074614
CREATED:20230728T195659Z
LAST-MODIFIED:20230728T201617Z
UID:6406-1694026800-1694030400@illinoisnaz.org
SUMMARY:Missions Rally - Metro Zone
DESCRIPTION:
URL:https://illinoisnaz.org/event/missions-rally-southern-zone-2/
LOCATION:Belleville Emmanuel Church of the Nazarene\, 8201 Old St Louis Rd\, Belleville\, IL\, 62223
CATEGORIES:District,NMI
END:VEVENT
BEGIN:VEVENT
DTSTART;TZID=America/Chicago:20230905T190000
DTEND;TZID=America/Chicago:20230905T200000
DTSTAMP:20260425T074614
CREATED:20230728T195659Z
LAST-MODIFIED:20230803T125223Z
UID:6398-1693940400-1693944000@illinoisnaz.org
SUMMARY:Missions Rally - South Central Zone
DESCRIPTION:
URL:https://illinoisnaz.org/event/missions-rally-south-central-zone/
LOCATION:Centralia\, 1206 W 4th St\, Centralia\, IL\, 62801
CATEGORIES:District,NMI
END:VEVENT
BEGIN:VEVENT
DTSTART;VALUE=DATE:20230905
DTEND;VALUE=DATE:20230915
DTSTAMP:20260425T074614
CREATED:20221215T203720Z
LAST-MODIFIED:20230829T205635Z
UID:4688-1693872000-1694735999@illinoisnaz.org
SUMMARY:Fall Zone Mission Tour with Scott & Emily Armstrong\, Missionaries to Mesoamerica.
DESCRIPTION:
URL:https://illinoisnaz.org/event/fall-zone-mission-tour-with-scott-emily-armstrong-missionaries-to-mesoamerica/
LOCATION:TBD
CATEGORIES:NMI
END:VEVENT
BEGIN:VEVENT
DTSTART;TZID=America/Chicago:20230831T170000
DTEND;TZID=America/Chicago:20230831T170000
DTSTAMP:20260425T074614
CREATED:20230517T184105Z
LAST-MODIFIED:20230729T202524Z
UID:5933-1693501200-1693501200@illinoisnaz.org
SUMMARY:Deadline for Registration for Adult Reignite & Renew Retreat
DESCRIPTION:
URL:https://illinoisnaz.org/event/deadline-for-registration-for-adult-reignite-renew-retreat-2/
LOCATION:IL
CATEGORIES:District
END:VEVENT
BEGIN:VEVENT
DTSTART;TZID=America/Chicago:20230826T100000
DTEND;TZID=America/Chicago:20230826T130000
DTSTAMP:20260425T074614
CREATED:20230717T162751Z
LAST-MODIFIED:20230717T165210Z
UID:6260-1693044000-1693054800@illinoisnaz.org
SUMMARY:District Advisory Board
DESCRIPTION:The District Advisory Board will be meeting online
URL:https://illinoisnaz.org/event/district-advisory-board-2/
LOCATION:IL
CATEGORIES:District,District Advisory Board
END:VEVENT
BEGIN:VEVENT
DTSTART;VALUE=DATE:20230820
DTEND;VALUE=DATE:20230821
DTSTAMP:20260425T074614
CREATED:20230728T182248Z
LAST-MODIFIED:20230728T182248Z
UID:6394-1692489600-1692575999@illinoisnaz.org
SUMMARY:Deadline for m&m Retreat registration
DESCRIPTION:
URL:https://illinoisnaz.org/event/deadline-for-mm-retreat-registration/
LOCATION:IL
CATEGORIES:District
END:VEVENT
BEGIN:VEVENT
DTSTART;VALUE=DATE:20230731
DTEND;VALUE=DATE:20230801
DTSTAMP:20260425T074614
CREATED:20230517T183946Z
LAST-MODIFIED:20230717T160245Z
UID:5931-1690761600-1690847999@illinoisnaz.org
SUMMARY:Early Bird Registration Ends for Adult Reignite & Renew Retreat
DESCRIPTION:
URL:https://illinoisnaz.org/event/deadline-for-registration-for-adult-reignite-renew-retreat/
LOCATION:IL
CATEGORIES:District,NDI
END:VEVENT
BEGIN:VEVENT
DTSTART;TZID=America/Chicago:20230722T083000
DTEND;TZID=America/Chicago:20230722T140000
DTSTAMP:20260425T074614
CREATED:20230517T183758Z
LAST-MODIFIED:20230517T183758Z
UID:5929-1690014600-1690034400@illinoisnaz.org
SUMMARY:District Assembly
DESCRIPTION:General Superintendent: Dr. David Busic
URL:https://illinoisnaz.org/event/district-assembly/
LOCATION:IL
CATEGORIES:District
END:VEVENT
BEGIN:VEVENT
DTSTART;TZID=America/Chicago:20230721T190000
DTEND;TZID=America/Chicago:20230721T210000
DTSTAMP:20260425T074614
CREATED:20230517T183213Z
LAST-MODIFIED:20230517T183213Z
UID:5924-1689966000-1689973200@illinoisnaz.org
SUMMARY:District Assembly Ordination Service
DESCRIPTION:General Superintendent: Dr. David Busic \nReception for Ordinands & Retirees
URL:https://illinoisnaz.org/event/district-assembly-ordination-service/
LOCATION:IL
CATEGORIES:District
END:VEVENT
BEGIN:VEVENT
DTSTART;TZID=America/Chicago:20230721T133000
DTEND;TZID=America/Chicago:20230721T163000
DTSTAMP:20260425T074614
CREATED:20230517T182932Z
LAST-MODIFIED:20230517T183442Z
UID:5922-1689946200-1689957000@illinoisnaz.org
SUMMARY:District NMI Convention
DESCRIPTION:– Speakers: Joel & Sara Mullen
URL:https://illinoisnaz.org/event/district-nmi-convention-speakers-joel-sara-mullen/
LOCATION:IL
CATEGORIES:District,NMI
END:VEVENT
BEGIN:VEVENT
DTSTART;TZID=America/Chicago:20230721T104500
DTEND;TZID=America/Chicago:20230721T113000
DTSTAMP:20260425T074614
CREATED:20230517T182713Z
LAST-MODIFIED:20230517T182713Z
UID:5920-1689936300-1689939000@illinoisnaz.org
SUMMARY:District Workshops
DESCRIPTION:
URL:https://illinoisnaz.org/event/district-workshops/
LOCATION:IL
CATEGORIES:District,NDI,NMI,NYI
END:VEVENT
BEGIN:VEVENT
DTSTART;TZID=America/Chicago:20230721T083000
DTEND;TZID=America/Chicago:20230721T103000
DTSTAMP:20260425T074614
CREATED:20230517T182451Z
LAST-MODIFIED:20230517T183330Z
UID:5918-1689928200-1689935400@illinoisnaz.org
SUMMARY:District NDI Convention
DESCRIPTION:– Speaker: Dr. Scott Rainey
URL:https://illinoisnaz.org/event/district-ndi-convention-speaker-dr-scott-rainey/
LOCATION:IL
CATEGORIES:District,NDI
END:VEVENT
BEGIN:VEVENT
DTSTART;TZID=America/Chicago:20230720T190000
DTEND;TZID=America/Chicago:20230720T230000
DTSTAMP:20260425T074614
CREATED:20230517T182111Z
LAST-MODIFIED:20230517T183557Z
UID:5914-1689879600-1689894000@illinoisnaz.org
SUMMARY:District NYI Convention
DESCRIPTION: – Speaker: Dr. Jeff Stark
URL:https://illinoisnaz.org/event/nyi-convention/
LOCATION:IL
CATEGORIES:District,NYI
END:VEVENT
BEGIN:VEVENT
DTSTART;VALUE=DATE:20230720
DTEND;VALUE=DATE:20230723
DTSTAMP:20260425T074614
CREATED:20211001T030046Z
LAST-MODIFIED:20230517T181833Z
UID:2264-1689811200-1690070399@illinoisnaz.org
SUMMARY:District Gathering Celebration (Conventions & Assembly)
DESCRIPTION:Thursday\, 7:00 pm – NYI Convention \nFriday\, 8:30 am – NDI Convention \nFriday\, 1:30 pm – NMI Convention \nFriday\, 7:00 pm – District Assembly & Ordination Service \nSaturday\, 8:30 am District Assembly
URL:https://illinoisnaz.org/event/district-gathering-celebration-conventions-assembly-23/
LOCATION:IL
CATEGORIES:District,NDI,NMI,NYI
END:VEVENT
BEGIN:VEVENT
DTSTART;TZID=America/Chicago:20230717T100000
DTEND;TZID=America/Chicago:20230717T130000
DTSTAMP:20260425T074614
CREATED:20230717T161808Z
LAST-MODIFIED:20230717T161808Z
UID:6258-1689588000-1689598800@illinoisnaz.org
SUMMARY:District Advisory Board meeting
DESCRIPTION:The District Advisory Board will be meeting online.
URL:https://illinoisnaz.org/event/district-advisory-board-meeting-5/
LOCATION:IL
CATEGORIES:District,District Advisory Board
END:VEVENT
BEGIN:VEVENT
DTSTART;VALUE=DATE:20230710
DTEND;VALUE=DATE:20230715
DTSTAMP:20260425T074614
CREATED:20211216T030020Z
LAST-MODIFIED:20230127T155616Z
UID:2830-1688947200-1689379199@illinoisnaz.org
SUMMARY:Kid’s Camp
DESCRIPTION:Camp will be held at Passion Church outside of Decatur. \nNDI Children’s Camp Forms\n 
URL:https://illinoisnaz.org/event/kids-camp/
LOCATION:Passion Church Campus (Camp Warren)\, 4225 Camp Warren Lane\, Decatur\, IL\, 62521\, United States
CATEGORIES:District,NDI
END:VEVENT
END:VCALENDAR