BEGIN:VCALENDAR
VERSION:2.0
PRODID:-//Illinois District Church of the Nazarene - ECPv6.15.20//NONSGML v1.0//EN
CALSCALE:GREGORIAN
METHOD:PUBLISH
X-WR-CALNAME:Illinois District Church of the Nazarene
X-ORIGINAL-URL:https://illinoisnaz.org
X-WR-CALDESC:Events for Illinois District Church of the Nazarene
REFRESH-INTERVAL;VALUE=DURATION:PT1H
X-Robots-Tag:noindex
X-PUBLISHED-TTL:PT1H
BEGIN:VTIMEZONE
TZID:America/Chicago
BEGIN:DAYLIGHT
TZOFFSETFROM:-0600
TZOFFSETTO:-0500
TZNAME:CDT
DTSTART:20180311T080000
END:DAYLIGHT
BEGIN:STANDARD
TZOFFSETFROM:-0500
TZOFFSETTO:-0600
TZNAME:CST
DTSTART:20181104T070000
END:STANDARD
BEGIN:DAYLIGHT
TZOFFSETFROM:-0600
TZOFFSETTO:-0500
TZNAME:CDT
DTSTART:20190310T080000
END:DAYLIGHT
BEGIN:STANDARD
TZOFFSETFROM:-0500
TZOFFSETTO:-0600
TZNAME:CST
DTSTART:20191103T070000
END:STANDARD
BEGIN:DAYLIGHT
TZOFFSETFROM:-0600
TZOFFSETTO:-0500
TZNAME:CDT
DTSTART:20200308T080000
END:DAYLIGHT
BEGIN:STANDARD
TZOFFSETFROM:-0500
TZOFFSETTO:-0600
TZNAME:CST
DTSTART:20201101T070000
END:STANDARD
BEGIN:DAYLIGHT
TZOFFSETFROM:-0600
TZOFFSETTO:-0500
TZNAME:CDT
DTSTART:20210314T080000
END:DAYLIGHT
BEGIN:STANDARD
TZOFFSETFROM:-0500
TZOFFSETTO:-0600
TZNAME:CST
DTSTART:20211107T070000
END:STANDARD
END:VTIMEZONE
BEGIN:VEVENT
DTSTART;TZID=America/Chicago:20200208T100000
DTEND;TZID=America/Chicago:20200208T150000
DTSTAMP:20260424T055520
CREATED:20191016T224316Z
LAST-MODIFIED:20191017T030005Z
UID:939-1581156000-1581174000@illinoisnaz.org
SUMMARY:District Teen Quiz
DESCRIPTION:
URL:https://illinoisnaz.org/event/district-teen-quiz-3/
LOCATION:Pittsfield Church of the Nazarene\, 227 West Washington St.\, Pittsfield\, IL\, 62363\, United States
CATEGORIES:NYI,Teen Quizzing
ATTACH;FMTTYPE=image/jpeg:https://illinoisnaz.org/wp-content/uploads/2019/10/60431082_10210651694927474_8433714919068663808_n.jpg
ORGANIZER;CN="Julie Marler":MAILTO:marler824@gmail.com
END:VEVENT
BEGIN:VEVENT
DTSTART;TZID=America/Chicago:20200111T100000
DTEND;TZID=America/Chicago:20200111T150000
DTSTAMP:20260424T055520
CREATED:20191016T222910Z
LAST-MODIFIED:20191017T025948Z
UID:931-1578736800-1578754800@illinoisnaz.org
SUMMARY:District Teen Quiz
DESCRIPTION:
URL:https://illinoisnaz.org/event/district-teen-quiz-2/
LOCATION:Champaign First Church of the Nazarene\, 2403 W. Kirby\, Champaign\, IL\, 61821\, United States
CATEGORIES:NYI,Teen Quizzing
ATTACH;FMTTYPE=image/jpeg:https://illinoisnaz.org/wp-content/uploads/2019/10/60391969_2398691673485093_1364882173638737920_n.jpg
ORGANIZER;CN="Julie Marler":MAILTO:marler824@gmail.com
END:VEVENT
BEGIN:VEVENT
DTSTART;TZID=America/Chicago:20191109T080000
DTEND;TZID=America/Chicago:20191109T150000
DTSTAMP:20260424T055520
CREATED:20191016T222324Z
LAST-MODIFIED:20191016T223455Z
UID:926-1573286400-1573311600@illinoisnaz.org
SUMMARY:District Teen Quiz
DESCRIPTION:
URL:https://illinoisnaz.org/event/district-teen-quiz/
LOCATION:Beardstown Church of the Nazarene\, 919 Jackson\, Beardstown\, IL\, 62618\, United States
CATEGORIES:NYI,Teen Quizzing
ATTACH;FMTTYPE=image/jpeg:https://illinoisnaz.org/wp-content/uploads/2019/10/60797454_2398692096818384_8429836284427501568_n.jpg
ORGANIZER;CN="Julie Marler":MAILTO:marler824@gmail.com
END:VEVENT
END:VCALENDAR