BEGIN:VCALENDAR
VERSION:2.0
PRODID:-//Illinois District Church of the Nazarene - ECPv6.15.20//NONSGML v1.0//EN
CALSCALE:GREGORIAN
METHOD:PUBLISH
X-WR-CALNAME:Illinois District Church of the Nazarene
X-ORIGINAL-URL:https://illinoisnaz.org
X-WR-CALDESC:Events for Illinois District Church of the Nazarene
REFRESH-INTERVAL;VALUE=DURATION:PT1H
X-Robots-Tag:noindex
X-PUBLISHED-TTL:PT1H
BEGIN:VTIMEZONE
TZID:America/Chicago
BEGIN:DAYLIGHT
TZOFFSETFROM:-0600
TZOFFSETTO:-0500
TZNAME:CDT
DTSTART:20180311T080000
END:DAYLIGHT
BEGIN:STANDARD
TZOFFSETFROM:-0500
TZOFFSETTO:-0600
TZNAME:CST
DTSTART:20181104T070000
END:STANDARD
BEGIN:DAYLIGHT
TZOFFSETFROM:-0600
TZOFFSETTO:-0500
TZNAME:CDT
DTSTART:20190310T080000
END:DAYLIGHT
BEGIN:STANDARD
TZOFFSETFROM:-0500
TZOFFSETTO:-0600
TZNAME:CST
DTSTART:20191103T070000
END:STANDARD
BEGIN:DAYLIGHT
TZOFFSETFROM:-0600
TZOFFSETTO:-0500
TZNAME:CDT
DTSTART:20200308T080000
END:DAYLIGHT
BEGIN:STANDARD
TZOFFSETFROM:-0500
TZOFFSETTO:-0600
TZNAME:CST
DTSTART:20201101T070000
END:STANDARD
BEGIN:DAYLIGHT
TZOFFSETFROM:-0600
TZOFFSETTO:-0500
TZNAME:CDT
DTSTART:20210314T080000
END:DAYLIGHT
BEGIN:STANDARD
TZOFFSETFROM:-0500
TZOFFSETTO:-0600
TZNAME:CST
DTSTART:20211107T070000
END:STANDARD
BEGIN:DAYLIGHT
TZOFFSETFROM:-0600
TZOFFSETTO:-0500
TZNAME:CDT
DTSTART:20220313T080000
END:DAYLIGHT
BEGIN:STANDARD
TZOFFSETFROM:-0500
TZOFFSETTO:-0600
TZNAME:CST
DTSTART:20221106T070000
END:STANDARD
END:VTIMEZONE
BEGIN:VEVENT
DTSTART;TZID=America/Chicago:20210719T100000
DTEND;TZID=America/Chicago:20210723T123000
DTSTAMP:20260424T022456
CREATED:20210329T212751Z
LAST-MODIFIED:20210917T005151Z
UID:1787-1626688800-1627043400@illinoisnaz.org
SUMMARY:KIDS CAMP @ CAMP WARREN
DESCRIPTION:Plans are underway to return to Camp Warren for Kids Camp\, July 19-23\, 2021. \nBe watching for more details!
URL:https://illinoisnaz.org/event/kids-camp-camp-warren/
LOCATION:Passion Church Campus (Camp Warren)\, 4225 Camp Warren Lane\, Decatur\, IL\, 62521\, United States
CATEGORIES:District,NDI
END:VEVENT
BEGIN:VEVENT
DTSTART;TZID=America/Chicago:20210716T080000
DTEND;TZID=America/Chicago:20210716T170000
DTSTAMP:20260424T022456
CREATED:20210329T213337Z
LAST-MODIFIED:20210329T213405Z
UID:1791-1626422400-1626454800@illinoisnaz.org
SUMMARY:DISTRICT NYI\, NMI\, & SDMI CONVENTIONS
DESCRIPTION:The leaders of NYI\, NMI & SDMI are working together to plan and coordinate the work of the conventions at Decatur First on Friday\, July 16.  Be watching for more Information.
URL:https://illinoisnaz.org/event/district-nyi-nmi-sdmi-conventions/
LOCATION:Decatur\, First Church\, 1177 W. Hickory Point Rd\, Decatur\, IL\, 62526
CATEGORIES:District,NDI,NMI,NYI
END:VEVENT
BEGIN:VEVENT
DTSTART;TZID=America/Chicago:20201107T100000
DTEND;TZID=America/Chicago:20201107T123000
DTSTAMP:20260424T022456
CREATED:20201029T225733Z
LAST-MODIFIED:20201029T225733Z
UID:1668-1604743200-1604752200@illinoisnaz.org
SUMMARY:SPARK - A Children's Worker Workshop
DESCRIPTION:SPARK  –  A CHILDREN’S WORKER TRAINING \nled by Trey & Candice Brooks\, co-founders of Equip to Engage. \nNovember 7\, 2020 \n10:00 am – 12:00 pm \nOnline\, using ZOOM! \nThe Event is Free\, but registration is required to get Zoom link! \npaste:  https://forms.gle/zp2HZrw6yGRkhofo8 into your browser
URL:https://illinoisnaz.org/event/spark-a-childrens-worker-workshop/
LOCATION:ONLINE
CATEGORIES:District,NDI
ATTACH;FMTTYPE=image/jpeg:https://illinoisnaz.org/wp-content/uploads/2020/10/poster-scaled.jpg
ORGANIZER;CN="Becky Armstrong":MAILTO:becky@illininaz
END:VEVENT
BEGIN:VEVENT
DTSTART;TZID=America/Chicago:20191028T093000
DTEND;TZID=America/Chicago:20191028T140000
DTSTAMP:20260424T022456
CREATED:20191016T214823Z
LAST-MODIFIED:20191016T223921Z
UID:910-1572255000-1572271200@illinoisnaz.org
SUMMARY:Prime Time 2019
DESCRIPTION:Guest Speaker\nNina Gunter\, General Superintendent Emeritus \nWorship\nBob & Jennifer Wilkerson \n  \nDownload Flyer
URL:https://illinoisnaz.org/event/prime-time-2019/
LOCATION:Salem Grace Church of the Nazarene\, 1900 N. Broadway\, Salem\, IL\, 62881\, United States
CATEGORIES:NDI
ATTACH;FMTTYPE=image/png:https://illinoisnaz.org/wp-content/uploads/2019/10/2019-10-16_1738.png
END:VEVENT
BEGIN:VEVENT
DTSTART;TZID=America/Chicago:20190913T160000
DTEND;TZID=America/Chicago:20190915T130000
DTSTAMP:20260424T022457
CREATED:20190907T023946Z
LAST-MODIFIED:20190907T031004Z
UID:187-1568390400-1568552400@illinoisnaz.org
SUMMARY:Lay Retreat 2019
DESCRIPTION:DON’T MISS THIS EXCITING EVENT TO EXPERIENCE \nA WEEKEND OF SPIRITUAL RENEWAL \nDr. Brian L. Powell serves as the District Superintendent of the Kentucky District. He is passionate about training pastors and leaders for service in the church and believes that God’s call on his life is to cultivate and sustain a culture of renewal\, discipleship\, and mission as it relates to the church. \nThe Chosen Ones feature three generations of smooth family harmony\, blending traditional and progressive Southern Gospel with light Contemporary Christian music. Their unique approach to Gospel Music appeals to a diverse audience. \nLay retreat is for all adults\, singles as well as couples\, that are 18 years of age and out of high school. No children/teens are allowed EXCEPT babies who are nursing. This weekend is a time set aside for all lay-people and pastors to relax\, have fun\, meet new people\, enjoy services with special music and grow closer to God. \nRooms include bedding\, bathroom\, and shower. Towels will not be provided. The “Early Bird” cost for each adult is $110 and their registrations should be postmarked by September 1st. This includes lodging and meals. Camper trailers & RV’s are also welcome at this price. Any registrations after September 1st will require a $10 late fee. \nSome of our activities include: \n\nPaddle boats\,\nwashers\,\nbags\,\nhorseshoes\,\nboard games\,\nBEANO\,\na bonfire\,\nzipline\, and\na fun live auction.\n\nFun items\, homemade goodies\, home-grown produce\, and other desired items in good condition are encouraged to be donated to the auction! All proceeds go to help pastors on our district who are in need.\nLay Retreat is being held at Camp Warren\, 4225 Camp Warren Lane in Decatur\, Illinois. Further details & descriptions\, including this year’s shirt design\, can be found on our Facebook page: IL District Lay Retreat. \nRegistration begins at 4:00 pm on Friday\, Sep.13th in the Retreat Center. An evening meal will begin at 6:00 pm with a kick-off service at 7:30 pm. The retreat will end after lunch on Sunday. If you are unable to stay with us but would like to join us for a meal\, the cost will be $8/meal or $6 for breakfast. \nDownloadable Flyer
URL:https://illinoisnaz.org/event/lay-retreat-2019/
LOCATION:Passion Church Campus (Camp Warren)\, 4225 Camp Warren Lane\, Decatur\, IL\, 62521\, United States
CATEGORIES:NDI
ATTACH;FMTTYPE=image/png:https://illinoisnaz.org/wp-content/uploads/2019/09/layretreat2019.png
END:VEVENT
END:VCALENDAR