BEGIN:VCALENDAR
VERSION:2.0
PRODID:-//Illinois District Church of the Nazarene - ECPv6.15.20//NONSGML v1.0//EN
CALSCALE:GREGORIAN
METHOD:PUBLISH
X-ORIGINAL-URL:https://illinoisnaz.org
X-WR-CALDESC:Events for Illinois District Church of the Nazarene
REFRESH-INTERVAL;VALUE=DURATION:PT1H
X-Robots-Tag:noindex
X-PUBLISHED-TTL:PT1H
BEGIN:VTIMEZONE
TZID:America/Chicago
BEGIN:DAYLIGHT
TZOFFSETFROM:-0600
TZOFFSETTO:-0500
TZNAME:CDT
DTSTART:20220313T080000
END:DAYLIGHT
BEGIN:STANDARD
TZOFFSETFROM:-0500
TZOFFSETTO:-0600
TZNAME:CST
DTSTART:20221106T070000
END:STANDARD
BEGIN:DAYLIGHT
TZOFFSETFROM:-0600
TZOFFSETTO:-0500
TZNAME:CDT
DTSTART:20230312T080000
END:DAYLIGHT
BEGIN:STANDARD
TZOFFSETFROM:-0500
TZOFFSETTO:-0600
TZNAME:CST
DTSTART:20231105T070000
END:STANDARD
BEGIN:DAYLIGHT
TZOFFSETFROM:-0600
TZOFFSETTO:-0500
TZNAME:CDT
DTSTART:20240310T080000
END:DAYLIGHT
BEGIN:STANDARD
TZOFFSETFROM:-0500
TZOFFSETTO:-0600
TZNAME:CST
DTSTART:20241103T070000
END:STANDARD
BEGIN:DAYLIGHT
TZOFFSETFROM:-0600
TZOFFSETTO:-0500
TZNAME:CDT
DTSTART:20250309T080000
END:DAYLIGHT
BEGIN:STANDARD
TZOFFSETFROM:-0500
TZOFFSETTO:-0600
TZNAME:CST
DTSTART:20251102T070000
END:STANDARD
BEGIN:DAYLIGHT
TZOFFSETFROM:-0600
TZOFFSETTO:-0500
TZNAME:CDT
DTSTART:20260308T080000
END:DAYLIGHT
BEGIN:STANDARD
TZOFFSETFROM:-0500
TZOFFSETTO:-0600
TZNAME:CST
DTSTART:20261101T070000
END:STANDARD
END:VTIMEZONE
BEGIN:VEVENT
DTSTART;TZID=America/Chicago:20250412T100000
DTEND;TZID=America/Chicago:20250412T170000
DTSTAMP:20260423T174214
CREATED:20241217T020734Z
LAST-MODIFIED:20241217T020734Z
UID:9336-1744452000-1744477200@illinoisnaz.org
SUMMARY:District Children's Quiz Final
DESCRIPTION:
URL:https://illinoisnaz.org/event/district-childrens-quiz-final/
LOCATION:Salem Grace Church of the Nazarene\, 1900 N. Broadway\, Salem\, IL\, 62881\, United States
CATEGORIES:NDI
END:VEVENT
BEGIN:VEVENT
DTSTART;TZID=America/Chicago:20250405T100000
DTEND;TZID=America/Chicago:20250405T150000
DTSTAMP:20260423T174214
CREATED:20240516T180334Z
LAST-MODIFIED:20250307T180831Z
UID:8088-1743847200-1743865200@illinoisnaz.org
SUMMARY:District Ladies Day
DESCRIPTION:Cost is $25/person.\nSue Duffield is the speaker. \nRegistration opens at 9:30. \nCopy and paste this link into your browser for registration: \nhttps://app.illinoisnaz.org/Registration?ID=33
URL:https://illinoisnaz.org/event/district-ladies-day/
LOCATION:Roxana Church of the Nazarene\, 500 N. Central Ave.\, Roxana\, IL\, 62084\, United States
CATEGORIES:District,NDI
END:VEVENT
BEGIN:VEVENT
DTSTART;TZID=America/Chicago:20250222T100000
DTEND;TZID=America/Chicago:20250222T170000
DTSTAMP:20260423T174214
CREATED:20241217T020556Z
LAST-MODIFIED:20241217T020556Z
UID:9334-1740218400-1740243600@illinoisnaz.org
SUMMARY:Invitational Children's Quiz (Dig Sites 11-15) - North Area
DESCRIPTION:
URL:https://illinoisnaz.org/event/invitational-childrens-quiz-dig-sites-11-15-north-area/
LOCATION:Decatur West Side\, 788 North Sunnyside Road\, Decatur\, IL\, 62522\, United States
CATEGORIES:NDI
END:VEVENT
BEGIN:VEVENT
DTSTART;TZID=America/Chicago:20250215T100000
DTEND;TZID=America/Chicago:20250215T170000
DTSTAMP:20260423T174214
CREATED:20241217T020434Z
LAST-MODIFIED:20241217T020434Z
UID:9332-1739613600-1739638800@illinoisnaz.org
SUMMARY:Invitational Children's Quiz (Dig Sites 11 - 15) - South Area
DESCRIPTION:
URL:https://illinoisnaz.org/event/invitational-childrens-quiz-dig-sites-11-15-south-area/
LOCATION:Centralia\, 1206 W 4th St\, Centralia\, IL\, 62801
CATEGORIES:NDI
END:VEVENT
BEGIN:VEVENT
DTSTART;VALUE=DATE:20250210
DTEND;VALUE=DATE:20250213
DTSTAMP:20260423T174214
CREATED:20231216T172836Z
LAST-MODIFIED:20240216T042952Z
UID:7281-1739145600-1739404799@illinoisnaz.org
SUMMARY:M25 Conference
DESCRIPTION:Dr. Stan Reeder\, our USA/Canada Director shared the following:\n\n\nWe are thrilled to announce the M25 Conference\, February 10-12\, 2025 in Kansas City! This is an amazing opportunity to be inspired\, to connect\, and to grow with pastors and lay leaders from across the United States and Canada. The focus of M25 is on evangelism and the saving grace of our Lord Jesus Christ. Prepare to be encouraged\, equipped\, and empowered in new and creative ways to share the gospel!\n\n\nWho: M25 is open for all USA/Canada Region pastor & lay ministry leaders. We would love to see our lead pastors bring staff and lay leaders in groups.\n\n\nWhat: M25 is a USA/Canada Regional quadrennial Nazarene conference for connecting\, learning\, and growing together. The agenda includes plenary speakers\, break-out workshops\, affinity group meetings\, and corporate worship time. Participants will be encouraged\, equipped\, and empowered to engage in new ways to bring people to Jesus.\n\n\nWhy: The most important work of the Church today is sharing the gospel and inviting others into a saving relationship with our Lord Jesus Christ. Jesus is calling all people to Himself and as believers\, we are co-workers in the work of evangelism. Our focus for M25 is on evangelism as we launch our regional vision\, Cycle of Resurgence: Bringing People to Jesus.\n\n 
URL:https://illinoisnaz.org/event/m25-conference/
LOCATION:Kansas City\, MO
CATEGORIES:District,NDI,NMI,NYI
END:VEVENT
BEGIN:VEVENT
DTSTART;VALUE=DATE:20241105
DTEND;VALUE=DATE:20241108
DTSTAMP:20260423T174214
CREATED:20231216T173347Z
LAST-MODIFIED:20231216T173347Z
UID:7283-1730764800-1731023999@illinoisnaz.org
SUMMARY:NDI Leadership Conference
DESCRIPTION:
URL:https://illinoisnaz.org/event/ndi-leadership-conference/
LOCATION:Tulsa\, OK\, United States
CATEGORIES:NDI
END:VEVENT
BEGIN:VEVENT
DTSTART;VALUE=DATE:20241102
DTEND;VALUE=DATE:20241103
DTSTAMP:20260423T174214
CREATED:20240516T180100Z
LAST-MODIFIED:20240516T180100Z
UID:8084-1730505600-1730591999@illinoisnaz.org
SUMMARY:District Men’s Day
DESCRIPTION:
URL:https://illinoisnaz.org/event/district-mens-day-2/
LOCATION:Pana First Church of the Nazarene\, 1200 E. 6th St.\, Pana\, Illinois\, 62557
CATEGORIES:District,NDI
END:VEVENT
BEGIN:VEVENT
DTSTART;VALUE=DATE:20241016
DTEND;VALUE=DATE:20241019
DTSTAMP:20260423T174214
CREATED:20240516T175859Z
LAST-MODIFIED:20240516T175859Z
UID:8080-1729036800-1729295999@illinoisnaz.org
SUMMARY:Chic Shaver Personal Evangelism Conference
DESCRIPTION:
URL:https://illinoisnaz.org/event/chic-shaver-personal-evangelism-conference/
LOCATION:Olivet Nazarene University\, ONE UNIVERSITY AVE\, BOURBONNAIS\, IL\, 60914\, United States
CATEGORIES:District,NDI
END:VEVENT
BEGIN:VEVENT
DTSTART;TZID=America/Chicago:20241012T133000
DTEND;TZID=America/Chicago:20241012T163000
DTSTAMP:20260423T174214
CREATED:20240516T170049Z
LAST-MODIFIED:20240911T143749Z
UID:8076-1728739800-1728750600@illinoisnaz.org
SUMMARY:Team Day 24-25
DESCRIPTION:(This will be the only Team Day this year.)
URL:https://illinoisnaz.org/event/team-day-24-25/
LOCATION:Roxana Church of the Nazarene\, 500 N. Central Ave.\, Roxana\, IL\, 62084\, United States
CATEGORIES:District,NDI,NMI,NYI
END:VEVENT
BEGIN:VEVENT
DTSTART;TZID=America/Chicago:20240920T160000
DTEND;TZID=America/Chicago:20240922T130000
DTSTAMP:20260423T174214
CREATED:20230918T193302Z
LAST-MODIFIED:20240316T203119Z
UID:6719-1726848000-1727010000@illinoisnaz.org
SUMMARY:Reignite and Renew 2024
DESCRIPTION:
URL:https://illinoisnaz.org/event/reignite-and-renew-2024/
LOCATION:Pinecrest Campground\, 1252 Hwy C.\, Fredericktown\, MO\, 63645\, United States
CATEGORIES:District,NDI
END:VEVENT
BEGIN:VEVENT
DTSTART;VALUE=DATE:20240831
DTEND;VALUE=DATE:20240901
DTSTAMP:20260423T174214
CREATED:20240316T202552Z
LAST-MODIFIED:20240423T185102Z
UID:7717-1725062400-1725148799@illinoisnaz.org
SUMMARY:Deadline for Registration for R&R Adult Retreat
DESCRIPTION:You can register and pay at:  https://app.illinoisnaz.org/Registration?ID=20
URL:https://illinoisnaz.org/event/deadline-for-registration-for-rr-adult-retreat/
CATEGORIES:District,NDI
END:VEVENT
BEGIN:VEVENT
DTSTART;VALUE=DATE:20240819
DTEND;VALUE=DATE:20240820
DTSTAMP:20260423T174214
CREATED:20240817T005806Z
LAST-MODIFIED:20240817T005806Z
UID:8622-1724025600-1724111999@illinoisnaz.org
SUMMARY:Early Bird Registration for SPARK ends!
DESCRIPTION:equiptoengage.org/spark
URL:https://illinoisnaz.org/event/early-bird-registration-for-spark-ends/
CATEGORIES:District,NDI
END:VEVENT
BEGIN:VEVENT
DTSTART;VALUE=DATE:20240715
DTEND;VALUE=DATE:20240720
DTSTAMP:20260423T174214
CREATED:20230104T195340Z
LAST-MODIFIED:20230104T195340Z
UID:4848-1721001600-1721433599@illinoisnaz.org
SUMMARY:Children's Camp @ Passion Community Church
DESCRIPTION:
URL:https://illinoisnaz.org/event/childrens-camp-passion-community-church/
LOCATION:Passion Church Campus (Camp Warren)\, 4225 Camp Warren Lane\, Decatur\, IL\, 62521\, United States
CATEGORIES:District,NDI
END:VEVENT
BEGIN:VEVENT
DTSTART;VALUE=DATE:20240711
DTEND;VALUE=DATE:20240714
DTSTAMP:20260423T174214
CREATED:20230104T195114Z
LAST-MODIFIED:20230104T195114Z
UID:4846-1720656000-1720915199@illinoisnaz.org
SUMMARY:District Conventions & Assembly
DESCRIPTION:
URL:https://illinoisnaz.org/event/district-conventions-assembly/
CATEGORIES:District,NDI,NMI,NYI
END:VEVENT
BEGIN:VEVENT
DTSTART;VALUE=DATE:20240701
DTEND;VALUE=DATE:20240702
DTSTAMP:20260423T174214
CREATED:20230729T205025Z
LAST-MODIFIED:20230729T205025Z
UID:6451-1719792000-1719878399@illinoisnaz.org
SUMMARY:Registration Deadline for Children’s Camp
DESCRIPTION:
URL:https://illinoisnaz.org/event/registration-deadline-for-childrens-camp/
CATEGORIES:District,NDI
END:VEVENT
BEGIN:VEVENT
DTSTART;VALUE=DATE:20240606
DTEND;VALUE=DATE:20240608
DTSTAMP:20260423T174214
CREATED:20240316T200335Z
LAST-MODIFIED:20240316T200335Z
UID:7713-1717632000-1717804799@illinoisnaz.org
SUMMARY:Field Children’s Quiz
DESCRIPTION:
URL:https://illinoisnaz.org/event/field-childrens-quiz/
LOCATION:Olivet Nazarene University\, ONE UNIVERSITY AVE\, BOURBONNAIS\, IL\, 60914\, United States
CATEGORIES:District,NDI
END:VEVENT
BEGIN:VEVENT
DTSTART;VALUE=DATE:20240531
DTEND;VALUE=DATE:20240601
DTSTAMP:20260423T174214
CREATED:20230729T204629Z
LAST-MODIFIED:20230729T204629Z
UID:6447-1717113600-1717199999@illinoisnaz.org
SUMMARY:Early Bird Registration Ends for Children’s Camp
DESCRIPTION:
URL:https://illinoisnaz.org/event/early-bird-registration-ends-for-childrens-camp/
CATEGORIES:District,NDI
END:VEVENT
BEGIN:VEVENT
DTSTART;TZID=America/Chicago:20240413T080000
DTEND;TZID=America/Chicago:20240413T170000
DTSTAMP:20260423T174214
CREATED:20230728T212959Z
LAST-MODIFIED:20240216T040603Z
UID:6433-1712995200-1713027600@illinoisnaz.org
SUMMARY:District Children's Quiz
DESCRIPTION:$10/quizzer
URL:https://illinoisnaz.org/event/district-childrens-quiz-3/
LOCATION:Springfield First
CATEGORIES:District,NDI
END:VEVENT
BEGIN:VEVENT
DTSTART;TZID=America/Chicago:20240408T100000
DTEND;TZID=America/Chicago:20240408T143000
DTSTAMP:20260423T174214
CREATED:20240408T161351Z
LAST-MODIFIED:20240408T161832Z
UID:7844-1712570400-1712586600@illinoisnaz.org
SUMMARY:Illinois District Ladies Day
DESCRIPTION:The District Ladies Day will be April 5\, 2025. \nPhyllis German and Debbie Brewer are in charge of this event.
URL:https://illinoisnaz.org/event/illinois-district-ladies-day/
CATEGORIES:District,NDI
END:VEVENT
BEGIN:VEVENT
DTSTART;TZID=America/Chicago:20240408T090000
DTEND;TZID=America/Chicago:20240408T150000
DTSTAMP:20260423T174214
CREATED:20240408T161151Z
LAST-MODIFIED:20240408T161151Z
UID:7841-1712566800-1712588400@illinoisnaz.org
SUMMARY:Illinois District Men's Day
DESCRIPTION:The Illinois District is sponsoring a Men’s Day.  Pastor Wade Stine is the District Men’s Director.
URL:https://illinoisnaz.org/event/illinois-district-mens-day/
CATEGORIES:District,NDI
END:VEVENT
BEGIN:VEVENT
DTSTART;TZID=America/Chicago:20240406T100000
DTEND;TZID=America/Chicago:20240406T150000
DTSTAMP:20260423T174214
CREATED:20230728T211718Z
LAST-MODIFIED:20240105T005508Z
UID:6431-1712397600-1712415600@illinoisnaz.org
SUMMARY:District Ladies' Day
DESCRIPTION:Register HERE!\n2024 Ladies Day
URL:https://illinoisnaz.org/event/district-womens-day-2/
LOCATION:Roxana\, Roxana\, IL
CATEGORIES:District,NDI
END:VEVENT
BEGIN:VEVENT
DTSTART;VALUE=DATE:20240307
DTEND;VALUE=DATE:20240310
DTSTAMP:20260423T174214
CREATED:20231216T183736Z
LAST-MODIFIED:20231216T183748Z
UID:7309-1709769600-1710028799@illinoisnaz.org
SUMMARY:Wesleyan Holiness Women’s Conference
DESCRIPTION:
URL:https://illinoisnaz.org/event/wesleyan-holiness-womens-conference/
LOCATION:Dallas\, Tx
CATEGORIES:District,NDI
END:VEVENT
BEGIN:VEVENT
DTSTART;VALUE=DATE:20240304
DTEND;VALUE=DATE:20240308
DTSTAMP:20260423T174214
CREATED:20231216T192232Z
LAST-MODIFIED:20231216T192343Z
UID:7313-1709510400-1709855999@illinoisnaz.org
SUMMARY:EXPONTENTIAL
DESCRIPTION:Exponential is a growing community of leaders committed to accelerating the multiplication of healthy\, reproducing faith communities. We equip movement makers with actionable principles\, ideas\, and solutions. We are passionate about accelerating multiplication through movement makers!
URL:https://illinoisnaz.org/event/expontential/
LOCATION:Orlando\, FL
CATEGORIES:District,NDI
END:VEVENT
BEGIN:VEVENT
DTSTART;TZID=America/Chicago:20240127T100000
DTEND;TZID=America/Chicago:20240127T150000
DTSTAMP:20260423T174214
CREATED:20230818T205137Z
LAST-MODIFIED:20231215T161718Z
UID:6536-1706349600-1706367600@illinoisnaz.org
SUMMARY:TEAM Day South w/ Mark Bane - LEADERSHIP DEVELOPMENT
DESCRIPTION:Register HERE!\n2024 Team Day South Image 8.5 x 11
URL:https://illinoisnaz.org/event/team-day-south-w-mark-bane-leadership-development/
LOCATION:Salem Grace Church of the Nazarene\, 1900 N. Broadway\, Salem\, IL\, 62881\, United States
CATEGORIES:District,NDI
END:VEVENT
BEGIN:VEVENT
DTSTART;VALUE=DATE:20240106
DTEND;VALUE=DATE:20240107
DTSTAMP:20260423T174214
CREATED:20230818T204834Z
LAST-MODIFIED:20231203T015729Z
UID:6532-1704499200-1704585599@illinoisnaz.org
SUMMARY:TEAM Day North w/ Hal Perkins - DISCIPLESHIP
DESCRIPTION:Register HERE!\n2024 Team Day North Poster 8.5 x 11
URL:https://illinoisnaz.org/event/team-day-north-w-hal-perkins-discipleship/
LOCATION:Decatur\, First Church\, 1177 W. Hickory Point Rd\, Decatur\, IL\, 62526
CATEGORIES:District,NDI
END:VEVENT
BEGIN:VEVENT
DTSTART;TZID=America/Chicago:20231111T090000
DTEND;TZID=America/Chicago:20231111T090000
DTSTAMP:20260423T174214
CREATED:20230717T161351Z
LAST-MODIFIED:20231015T213533Z
UID:6254-1699693200-1699693200@illinoisnaz.org
SUMMARY:District Men's Day
DESCRIPTION:Men's day Poster 2023
URL:https://illinoisnaz.org/event/district-mens-day/
CATEGORIES:District,NDI
END:VEVENT
BEGIN:VEVENT
DTSTART;VALUE=DATE:20231028
DTEND;VALUE=DATE:20231029
DTSTAMP:20260423T174214
CREATED:20230728T210341Z
LAST-MODIFIED:20231016T022715Z
UID:6425-1698451200-1698537599@illinoisnaz.org
SUMMARY:IL District Prime Time Day w/Tony Fightmaster
DESCRIPTION:Prime Time
URL:https://illinoisnaz.org/event/il-district-prime-time-day-w-tony-fightmaster/
LOCATION:Salem Grace Church of the Nazarene\, 1900 N. Broadway\, Salem\, IL\, 62881\, United States
CATEGORIES:District,NDI
END:VEVENT
BEGIN:VEVENT
DTSTART;VALUE=DATE:20230915
DTEND;VALUE=DATE:20230918
DTSTAMP:20260423T174214
CREATED:20230517T184319Z
LAST-MODIFIED:20230717T172127Z
UID:5935-1694736000-1694995199@illinoisnaz.org
SUMMARY:Adult Reignite & Renew Retreat
DESCRIPTION:
URL:https://illinoisnaz.org/event/adult-reignite-renew-retreat/
LOCATION:Pinecrest Campground\, 1252 Hwy C.\, Fredericktown\, MO\, 63645\, United States
CATEGORIES:District,NDI
END:VEVENT
BEGIN:VEVENT
DTSTART;VALUE=DATE:20230731
DTEND;VALUE=DATE:20230801
DTSTAMP:20260423T174214
CREATED:20230517T183946Z
LAST-MODIFIED:20230717T160245Z
UID:5931-1690761600-1690847999@illinoisnaz.org
SUMMARY:Early Bird Registration Ends for Adult Reignite & Renew Retreat
DESCRIPTION:
URL:https://illinoisnaz.org/event/deadline-for-registration-for-adult-reignite-renew-retreat/
CATEGORIES:District,NDI
END:VEVENT
BEGIN:VEVENT
DTSTART;TZID=America/Chicago:20230721T104500
DTEND;TZID=America/Chicago:20230721T113000
DTSTAMP:20260423T174214
CREATED:20230517T182713Z
LAST-MODIFIED:20230517T182713Z
UID:5920-1689936300-1689939000@illinoisnaz.org
SUMMARY:District Workshops
DESCRIPTION:
URL:https://illinoisnaz.org/event/district-workshops/
CATEGORIES:District,NDI,NMI,NYI
END:VEVENT
END:VCALENDAR