BEGIN:VCALENDAR
VERSION:2.0
PRODID:-//Illinois District Church of the Nazarene - ECPv6.15.20//NONSGML v1.0//EN
CALSCALE:GREGORIAN
METHOD:PUBLISH
X-ORIGINAL-URL:https://illinoisnaz.org
X-WR-CALDESC:Events for Illinois District Church of the Nazarene
REFRESH-INTERVAL;VALUE=DURATION:PT1H
X-Robots-Tag:noindex
X-PUBLISHED-TTL:PT1H
BEGIN:VTIMEZONE
TZID:America/Chicago
BEGIN:DAYLIGHT
TZOFFSETFROM:-0600
TZOFFSETTO:-0500
TZNAME:CDT
DTSTART:20250309T080000
END:DAYLIGHT
BEGIN:STANDARD
TZOFFSETFROM:-0500
TZOFFSETTO:-0600
TZNAME:CST
DTSTART:20251102T070000
END:STANDARD
BEGIN:DAYLIGHT
TZOFFSETFROM:-0600
TZOFFSETTO:-0500
TZNAME:CDT
DTSTART:20260308T080000
END:DAYLIGHT
BEGIN:STANDARD
TZOFFSETFROM:-0500
TZOFFSETTO:-0600
TZNAME:CST
DTSTART:20261101T070000
END:STANDARD
BEGIN:DAYLIGHT
TZOFFSETFROM:-0600
TZOFFSETTO:-0500
TZNAME:CDT
DTSTART:20270314T080000
END:DAYLIGHT
BEGIN:STANDARD
TZOFFSETFROM:-0500
TZOFFSETTO:-0600
TZNAME:CST
DTSTART:20271107T070000
END:STANDARD
BEGIN:DAYLIGHT
TZOFFSETFROM:-0600
TZOFFSETTO:-0500
TZNAME:CDT
DTSTART:20280312T080000
END:DAYLIGHT
BEGIN:STANDARD
TZOFFSETFROM:-0500
TZOFFSETTO:-0600
TZNAME:CST
DTSTART:20281105T070000
END:STANDARD
END:VTIMEZONE
BEGIN:VEVENT
DTSTART;VALUE=DATE:20260502
DTEND;VALUE=DATE:20260503
DTSTAMP:20260423T145948
CREATED:20251215T224901Z
LAST-MODIFIED:20251215T224901Z
UID:11926-1777680000-1777766399@illinoisnaz.org
SUMMARY:District NDI Convention
DESCRIPTION:
URL:https://illinoisnaz.org/event/district-ndi-convention/
LOCATION:Salem Grace Church of the Nazarene\, 1900 N. Broadway\, Salem\, IL\, 62881\, United States
CATEGORIES:NDI
END:VEVENT
BEGIN:VEVENT
DTSTART;VALUE=DATE:20260530
DTEND;VALUE=DATE:20260531
DTSTAMP:20260423T145948
CREATED:20251016T031030Z
LAST-MODIFIED:20251215T224638Z
UID:11205-1780099200-1780185599@illinoisnaz.org
SUMMARY:District Children’s Quiz\, Dig Sites 1-20
DESCRIPTION:
URL:https://illinoisnaz.org/event/district-childrens-quiz-dig-sites-1-20/
CATEGORIES:NDI
END:VEVENT
BEGIN:VEVENT
DTSTART;TZID=America/Chicago:20260612T080000
DTEND;TZID=America/Chicago:20260613T170000
DTSTAMP:20260423T145948
CREATED:20251215T225259Z
LAST-MODIFIED:20251215T225259Z
UID:11932-1781251200-1781370000@illinoisnaz.org
SUMMARY:Regional Children’s Quiz @ ONU
DESCRIPTION:
URL:https://illinoisnaz.org/event/regional-childrens-quiz-onu-2/
LOCATION:Olivet Nazarene University\, ONE UNIVERSITY AVE\, BOURBONNAIS\, IL\, 60914\, United States
CATEGORIES:District,NDI
END:VEVENT
BEGIN:VEVENT
DTSTART;VALUE=DATE:20260710
DTEND;VALUE=DATE:20260712
DTSTAMP:20260423T145948
CREATED:20250316T021739Z
LAST-MODIFIED:20250316T021739Z
UID:9716-1783641600-1783814399@illinoisnaz.org
SUMMARY:District Assembly
DESCRIPTION:
URL:https://illinoisnaz.org/event/district-assembly-2/
CATEGORIES:District,NDI,NMI
END:VEVENT
BEGIN:VEVENT
DTSTART;VALUE=DATE:20260713
DTEND;VALUE=DATE:20260718
DTSTAMP:20260423T145948
CREATED:20250719T011117Z
LAST-MODIFIED:20260415T182749Z
UID:10618-1783900800-1784332799@illinoisnaz.org
SUMMARY:Children’s Camp
DESCRIPTION:Children’s Camp ApplicationChildren’s Camp Application
URL:https://illinoisnaz.org/event/childrens-camp/
CATEGORIES:NDI
END:VEVENT
BEGIN:VEVENT
DTSTART;VALUE=DATE:20260918
DTEND;VALUE=DATE:20260921
DTSTAMP:20260423T145948
CREATED:20250719T011250Z
LAST-MODIFIED:20250719T011250Z
UID:10620-1789689600-1789948799@illinoisnaz.org
SUMMARY:Adult ‘Reignite & Renew’ Retreat
DESCRIPTION:
URL:https://illinoisnaz.org/event/adult-reignite-renew-retreat-2/
LOCATION:Pinecrest Campground\, 1252 Hwy C.\, Fredericktown\, MO\, 63645\, United States
CATEGORIES:District,NDI
END:VEVENT
BEGIN:VEVENT
DTSTART;VALUE=DATE:20270625
DTEND;VALUE=DATE:20270703
DTSTAMP:20260423T145948
CREATED:20250316T022252Z
LAST-MODIFIED:20250316T022252Z
UID:9721-1813881600-1814572799@illinoisnaz.org
SUMMARY:General Assembly
DESCRIPTION:
URL:https://illinoisnaz.org/event/general-assembly/
LOCATION:Kansas City\, MO
CATEGORIES:District,NDI,NMI,NYI
END:VEVENT
BEGIN:VEVENT
DTSTART;VALUE=DATE:20270716
DTEND;VALUE=DATE:20270718
DTSTAMP:20260423T145948
CREATED:20251016T031641Z
LAST-MODIFIED:20251016T031641Z
UID:11213-1815696000-1815868799@illinoisnaz.org
SUMMARY:Illinois District Assembly
DESCRIPTION:
URL:https://illinoisnaz.org/event/illinois-district-assembly-2/
CATEGORIES:District,NDI,NMI
END:VEVENT
BEGIN:VEVENT
DTSTART;VALUE=DATE:20270719
DTEND;VALUE=DATE:20270724
DTSTAMP:20260423T145948
CREATED:20251216T022425Z
LAST-MODIFIED:20251216T022425Z
UID:11979-1815955200-1816387199@illinoisnaz.org
SUMMARY:Tentative Date for Children’s Camp
DESCRIPTION:
URL:https://illinoisnaz.org/event/tentative-date-for-childrens-camp/
CATEGORIES:District,NDI
END:VEVENT
END:VCALENDAR