BEGIN:VCALENDAR
VERSION:2.0
PRODID:-//Illinois District Church of the Nazarene - ECPv6.15.20//NONSGML v1.0//EN
CALSCALE:GREGORIAN
METHOD:PUBLISH
X-ORIGINAL-URL:https://illinoisnaz.org
X-WR-CALDESC:Events for Illinois District Church of the Nazarene
REFRESH-INTERVAL;VALUE=DURATION:PT1H
X-Robots-Tag:noindex
X-PUBLISHED-TTL:PT1H
BEGIN:VTIMEZONE
TZID:America/Chicago
BEGIN:DAYLIGHT
TZOFFSETFROM:-0600
TZOFFSETTO:-0500
TZNAME:CDT
DTSTART:20230312T080000
END:DAYLIGHT
BEGIN:STANDARD
TZOFFSETFROM:-0500
TZOFFSETTO:-0600
TZNAME:CST
DTSTART:20231105T070000
END:STANDARD
BEGIN:DAYLIGHT
TZOFFSETFROM:-0600
TZOFFSETTO:-0500
TZNAME:CDT
DTSTART:20240310T080000
END:DAYLIGHT
BEGIN:STANDARD
TZOFFSETFROM:-0500
TZOFFSETTO:-0600
TZNAME:CST
DTSTART:20241103T070000
END:STANDARD
BEGIN:DAYLIGHT
TZOFFSETFROM:-0600
TZOFFSETTO:-0500
TZNAME:CDT
DTSTART:20250309T080000
END:DAYLIGHT
BEGIN:STANDARD
TZOFFSETFROM:-0500
TZOFFSETTO:-0600
TZNAME:CST
DTSTART:20251102T070000
END:STANDARD
END:VTIMEZONE
BEGIN:VEVENT
DTSTART;VALUE=DATE:20240914
DTEND;VALUE=DATE:20240915
DTSTAMP:20260423T200005
CREATED:20240316T203715Z
LAST-MODIFIED:20240316T203715Z
UID:7723-1726272000-1726358399@illinoisnaz.org
SUMMARY:District Teen Quiz
DESCRIPTION:
URL:https://illinoisnaz.org/event/district-teen-quiz-8/
LOCATION:IL
CATEGORIES:District,NYI
END:VEVENT
BEGIN:VEVENT
DTSTART;VALUE=DATE:20240912
DTEND;VALUE=DATE:20240915
DTSTAMP:20260423T200005
CREATED:20240316T203314Z
LAST-MODIFIED:20240316T203314Z
UID:7721-1726099200-1726358399@illinoisnaz.org
SUMMARY:IL/MO SPARK
DESCRIPTION:
URL:https://illinoisnaz.org/event/il-mo-spark/
LOCATION:Pinecrest Campground\, 1252 Hwy C.\, Fredericktown\, MO\, 63645\, United States
CATEGORIES:District
END:VEVENT
BEGIN:VEVENT
DTSTART;VALUE=DATE:20240904
DTEND;VALUE=DATE:20240913
DTSTAMP:20260423T200005
CREATED:20230517T190949Z
LAST-MODIFIED:20240516T165543Z
UID:5945-1725408000-1726185599@illinoisnaz.org
SUMMARY:Zone Mission Rallies
DESCRIPTION:Speakers: \nErmias and Mulu\, Kenya \n 
URL:https://illinoisnaz.org/event/zone-mission-rallies/
LOCATION:IL
CATEGORIES:District,NMI
END:VEVENT
BEGIN:VEVENT
DTSTART;VALUE=DATE:20240831
DTEND;VALUE=DATE:20240901
DTSTAMP:20260423T200005
CREATED:20240316T202552Z
LAST-MODIFIED:20240423T185102Z
UID:7717-1725062400-1725148799@illinoisnaz.org
SUMMARY:Deadline for Registration for R&R Adult Retreat
DESCRIPTION:You can register and pay at:  https://app.illinoisnaz.org/Registration?ID=20
URL:https://illinoisnaz.org/event/deadline-for-registration-for-rr-adult-retreat/
LOCATION:IL
CATEGORIES:District,NDI
END:VEVENT
BEGIN:VEVENT
DTSTART;VALUE=DATE:20240819
DTEND;VALUE=DATE:20240820
DTSTAMP:20260423T200005
CREATED:20240817T005806Z
LAST-MODIFIED:20240817T005806Z
UID:8622-1724025600-1724111999@illinoisnaz.org
SUMMARY:Early Bird Registration for SPARK ends!
DESCRIPTION:equiptoengage.org/spark
URL:https://illinoisnaz.org/event/early-bird-registration-for-spark-ends/
LOCATION:IL
CATEGORIES:District,NDI
END:VEVENT
BEGIN:VEVENT
DTSTART;VALUE=DATE:20240715
DTEND;VALUE=DATE:20240720
DTSTAMP:20260423T200005
CREATED:20230104T195340Z
LAST-MODIFIED:20230104T195340Z
UID:4848-1721001600-1721433599@illinoisnaz.org
SUMMARY:Children's Camp @ Passion Community Church
DESCRIPTION:
URL:https://illinoisnaz.org/event/childrens-camp-passion-community-church/
LOCATION:Passion Church Campus (Camp Warren)\, 4225 Camp Warren Lane\, Decatur\, IL\, 62521\, United States
CATEGORIES:District,NDI
END:VEVENT
BEGIN:VEVENT
DTSTART;VALUE=DATE:20240711
DTEND;VALUE=DATE:20240714
DTSTAMP:20260423T200005
CREATED:20230104T195114Z
LAST-MODIFIED:20230104T195114Z
UID:4846-1720656000-1720915199@illinoisnaz.org
SUMMARY:District Conventions & Assembly
DESCRIPTION:
URL:https://illinoisnaz.org/event/district-conventions-assembly/
LOCATION:IL
CATEGORIES:District,NDI,NMI,NYI
END:VEVENT
BEGIN:VEVENT
DTSTART;VALUE=DATE:20240701
DTEND;VALUE=DATE:20240702
DTSTAMP:20260423T200005
CREATED:20230729T205025Z
LAST-MODIFIED:20230729T205025Z
UID:6451-1719792000-1719878399@illinoisnaz.org
SUMMARY:Registration Deadline for Children’s Camp
DESCRIPTION:
URL:https://illinoisnaz.org/event/registration-deadline-for-childrens-camp/
LOCATION:IL
CATEGORIES:District,NDI
END:VEVENT
BEGIN:VEVENT
DTSTART;VALUE=DATE:20240624
DTEND;VALUE=DATE:20240629
DTSTAMP:20260423T200005
CREATED:20230104T194820Z
LAST-MODIFIED:20230104T194820Z
UID:4842-1719187200-1719619199@illinoisnaz.org
SUMMARY:District Youth Camp @ CTR
DESCRIPTION:
URL:https://illinoisnaz.org/event/district-youth-camp-ctr/
LOCATION:Camp Table Rock\, 2079 Peninsula Drive\, Shell Knob\, MO\, 65747\, United States
CATEGORIES:District,NYI
END:VEVENT
BEGIN:VEVENT
DTSTART;VALUE=DATE:20240606
DTEND;VALUE=DATE:20240608
DTSTAMP:20260423T200005
CREATED:20240316T200335Z
LAST-MODIFIED:20240316T200335Z
UID:7713-1717632000-1717804799@illinoisnaz.org
SUMMARY:Field Children’s Quiz
DESCRIPTION:
URL:https://illinoisnaz.org/event/field-childrens-quiz/
LOCATION:Olivet Nazarene University\, ONE UNIVERSITY AVE\, BOURBONNAIS\, IL\, 60914\, United States
CATEGORIES:District,NDI
END:VEVENT
BEGIN:VEVENT
DTSTART;VALUE=DATE:20240603
DTEND;VALUE=DATE:20240604
DTSTAMP:20260423T200005
CREATED:20230729T204740Z
LAST-MODIFIED:20230729T204740Z
UID:6449-1717372800-1717459199@illinoisnaz.org
SUMMARY:Registration Deadline for Camp Table Rock
DESCRIPTION:
URL:https://illinoisnaz.org/event/registration-deadline-for-camp-table-rock/
LOCATION:IL
CATEGORIES:District,NYI
END:VEVENT
BEGIN:VEVENT
DTSTART;VALUE=DATE:20240531
DTEND;VALUE=DATE:20240601
DTSTAMP:20260423T200005
CREATED:20230729T204629Z
LAST-MODIFIED:20230729T204629Z
UID:6447-1717113600-1717199999@illinoisnaz.org
SUMMARY:Early Bird Registration Ends for Children’s Camp
DESCRIPTION:
URL:https://illinoisnaz.org/event/early-bird-registration-ends-for-childrens-camp/
LOCATION:IL
CATEGORIES:District,NDI
END:VEVENT
BEGIN:VEVENT
DTSTART;VALUE=DATE:20240520
DTEND;VALUE=DATE:20240521
DTSTAMP:20260423T200005
CREATED:20230729T204509Z
LAST-MODIFIED:20230729T204509Z
UID:6445-1716163200-1716249599@illinoisnaz.org
SUMMARY:Early Bird Registration Ends for Youth - Camp Table Rock
DESCRIPTION:
URL:https://illinoisnaz.org/event/early-bird-registration-ends-for-youth-camp-table-rock/
LOCATION:IL
CATEGORIES:District,NYI
END:VEVENT
BEGIN:VEVENT
DTSTART;VALUE=DATE:20240519
DTEND;VALUE=DATE:20240520
DTSTAMP:20260423T200005
CREATED:20230517T190646Z
LAST-MODIFIED:20230517T190646Z
UID:5943-1716076800-1716163199@illinoisnaz.org
SUMMARY:Pentecost Sunday
DESCRIPTION:
URL:https://illinoisnaz.org/event/pentecost-sunday-2/
LOCATION:IL
CATEGORIES:District
END:VEVENT
BEGIN:VEVENT
DTSTART;VALUE=DATE:20240516
DTEND;VALUE=DATE:20240519
DTSTAMP:20260423T200005
CREATED:20230104T194432Z
LAST-MODIFIED:20230104T194432Z
UID:4839-1715817600-1716076799@illinoisnaz.org
SUMMARY:Celebrate Life @ ONU
DESCRIPTION:
URL:https://illinoisnaz.org/event/celebrate-life-onu/
LOCATION:IL
CATEGORIES:District,NYI,Teen Quizzing
END:VEVENT
BEGIN:VEVENT
DTSTART;VALUE=DATE:20240516
DTEND;VALUE=DATE:20240517
DTSTAMP:20260423T200005
CREATED:20240115T180939Z
LAST-MODIFIED:20240115T180939Z
UID:7456-1715817600-1715903999@illinoisnaz.org
SUMMARY:Annual Pastor’s Report Deadline
DESCRIPTION:
URL:https://illinoisnaz.org/event/annual-pastors-report-deadline/
LOCATION:IL
CATEGORIES:District
END:VEVENT
BEGIN:VEVENT
DTSTART;VALUE=DATE:20240427
DTEND;VALUE=DATE:20240428
DTSTAMP:20260423T200005
CREATED:20230517T185014Z
LAST-MODIFIED:20240216T040951Z
UID:5941-1714176000-1714262399@illinoisnaz.org
SUMMARY:Interviews of Ordination Candidates
DESCRIPTION:
URL:https://illinoisnaz.org/event/interviews-of-ordination-candidates/
LOCATION:Mattoon East Side\, 2129 S. 9th St.\, Mattoon\, IL\, 61938\, United States
CATEGORIES:District
END:VEVENT
BEGIN:VEVENT
DTSTART;TZID=America/Chicago:20240418T080000
DTEND;TZID=America/Chicago:20240418T170000
DTSTAMP:20260423T200005
CREATED:20231015T011350Z
LAST-MODIFIED:20240115T195742Z
UID:6875-1713427200-1713459600@illinoisnaz.org
SUMMARY:South Central Zone Mission Rally
DESCRIPTION:Liliana and Fernando Almeida are global missionaries with the Church of the Nazarene.
URL:https://illinoisnaz.org/event/south-central-zone-mission-rally/
LOCATION:Salem Grace Church of the Nazarene\, 1900 N. Broadway\, Salem\, IL\, 62881\, United States
CATEGORIES:District,NMI
END:VEVENT
BEGIN:VEVENT
DTSTART;TZID=America/Chicago:20240416T190000
DTEND;TZID=America/Chicago:20240416T210000
DTSTAMP:20260423T200005
CREATED:20231015T011259Z
LAST-MODIFIED:20231216T180626Z
UID:6873-1713294000-1713301200@illinoisnaz.org
SUMMARY:Southern Zone Mission Rally
DESCRIPTION:Liliana and Fernando Almeida are global missionaries with the Church of the Nazarene.
URL:https://illinoisnaz.org/event/southern-zone-mission-rally/
LOCATION:Murphysboro
CATEGORIES:District,NMI
END:VEVENT
BEGIN:VEVENT
DTSTART;TZID=America/Chicago:20240415T190000
DTEND;TZID=America/Chicago:20240415T210000
DTSTAMP:20260423T200005
CREATED:20231015T011157Z
LAST-MODIFIED:20240115T180357Z
UID:6871-1713207600-1713214800@illinoisnaz.org
SUMMARY:Metro Zone Mission Rally
DESCRIPTION:Liliana and Fernando Almeida are global missionaries with the Church of the Nazarene.
URL:https://illinoisnaz.org/event/metro-zone-mission-rally/
LOCATION:Collinsville New Community\, 10 Chapel Ct\, Collinsville\, IL\, 62234\, United States
CATEGORIES:District,NMI
END:VEVENT
BEGIN:VEVENT
DTSTART;TZID=America/Chicago:20240414T180000
DTEND;TZID=America/Chicago:20240414T200000
DTSTAMP:20260423T200005
CREATED:20231015T011047Z
LAST-MODIFIED:20231216T180906Z
UID:6869-1713117600-1713124800@illinoisnaz.org
SUMMARY:Illinois River Zone Mission Rally
DESCRIPTION:Liliana and Fernando Almeida are global missionaries with the Church of the Nazarene.
URL:https://illinoisnaz.org/event/illinois-river-zone-mission-rally/
LOCATION:Bethal Community
CATEGORIES:District,NMI
END:VEVENT
BEGIN:VEVENT
DTSTART;TZID=America/Chicago:20240413T080000
DTEND;TZID=America/Chicago:20240413T170000
DTSTAMP:20260423T200005
CREATED:20230728T212959Z
LAST-MODIFIED:20240216T040603Z
UID:6433-1712995200-1713027600@illinoisnaz.org
SUMMARY:District Children's Quiz
DESCRIPTION:$10/quizzer
URL:https://illinoisnaz.org/event/district-childrens-quiz-3/
LOCATION:Springfield First
CATEGORIES:District,NDI
END:VEVENT
BEGIN:VEVENT
DTSTART;VALUE=DATE:20240411
DTEND;VALUE=DATE:20240412
DTSTAMP:20260423T200005
CREATED:20240115T165300Z
LAST-MODIFIED:20240115T165300Z
UID:7451-1712793600-1712879999@illinoisnaz.org
SUMMARY:Deadline for Ordination Applications\, First Time License Application\, Questionnaire\, Recommendation
DESCRIPTION:
URL:https://illinoisnaz.org/event/deadline-for-ordination-applications-first-time-license-application-questionnaire-recommendation/
LOCATION:IL
CATEGORIES:District
END:VEVENT
BEGIN:VEVENT
DTSTART;TZID=America/Chicago:20240410T190000
DTEND;TZID=America/Chicago:20240410T210000
DTSTAMP:20260423T200005
CREATED:20231015T010743Z
LAST-MODIFIED:20231216T181116Z
UID:6865-1712775600-1712782800@illinoisnaz.org
SUMMARY:North East Zone Mission Rally
DESCRIPTION:Liliana and Fernando Almeida are global missionaries with the Church of the Nazarene.
URL:https://illinoisnaz.org/event/north-east-zone-mission-rally/
LOCATION:Georgetown
CATEGORIES:District,NMI
END:VEVENT
BEGIN:VEVENT
DTSTART;TZID=America/Chicago:20240409T190000
DTEND;TZID=America/Chicago:20240409T210000
DTSTAMP:20260423T200005
CREATED:20231015T010632Z
LAST-MODIFIED:20231216T181224Z
UID:6863-1712689200-1712696400@illinoisnaz.org
SUMMARY:East Central Zone Mission Rally
DESCRIPTION:Liliana and Fernando Almeida are global missionaries with the Church of the Nazarene.
URL:https://illinoisnaz.org/event/east-central-zone-mission-rally/
LOCATION:Mattoon East Side\, 2129 S. 9th St.\, Mattoon\, IL\, 61938\, United States
CATEGORIES:District,NMI
END:VEVENT
BEGIN:VEVENT
DTSTART;TZID=America/Chicago:20240408T100000
DTEND;TZID=America/Chicago:20240408T143000
DTSTAMP:20260423T200005
CREATED:20240408T161351Z
LAST-MODIFIED:20240408T161832Z
UID:7844-1712570400-1712586600@illinoisnaz.org
SUMMARY:Illinois District Ladies Day
DESCRIPTION:The District Ladies Day will be April 5\, 2025. \nPhyllis German and Debbie Brewer are in charge of this event.
URL:https://illinoisnaz.org/event/illinois-district-ladies-day/
LOCATION:IL
CATEGORIES:District,NDI
END:VEVENT
BEGIN:VEVENT
DTSTART;TZID=America/Chicago:20240408T090000
DTEND;TZID=America/Chicago:20240408T150000
DTSTAMP:20260423T200005
CREATED:20240408T161151Z
LAST-MODIFIED:20240408T161151Z
UID:7841-1712566800-1712588400@illinoisnaz.org
SUMMARY:Illinois District Men's Day
DESCRIPTION:The Illinois District is sponsoring a Men’s Day.  Pastor Wade Stine is the District Men’s Director.
URL:https://illinoisnaz.org/event/illinois-district-mens-day/
LOCATION:IL
CATEGORIES:District,NDI
END:VEVENT
BEGIN:VEVENT
DTSTART;TZID=America/Chicago:20240406T100000
DTEND;TZID=America/Chicago:20240406T150000
DTSTAMP:20260423T200005
CREATED:20230728T211718Z
LAST-MODIFIED:20240105T005508Z
UID:6431-1712397600-1712415600@illinoisnaz.org
SUMMARY:District Ladies' Day
DESCRIPTION:Register HERE!\n2024 Ladies Day
URL:https://illinoisnaz.org/event/district-womens-day-2/
LOCATION:Roxana\, Roxana\, IL
CATEGORIES:District,NDI
END:VEVENT
BEGIN:VEVENT
DTSTART;VALUE=DATE:20240331
DTEND;VALUE=DATE:20240401
DTSTAMP:20260423T200005
CREATED:20230517T184834Z
LAST-MODIFIED:20230517T184834Z
UID:5939-1711843200-1711929599@illinoisnaz.org
SUMMARY:Easter Sunday
DESCRIPTION:
URL:https://illinoisnaz.org/event/easter-sunday-2/
LOCATION:IL
CATEGORIES:District
END:VEVENT
BEGIN:VEVENT
DTSTART;VALUE=DATE:20240324
DTEND;VALUE=DATE:20240325
DTSTAMP:20260423T200005
CREATED:20230517T184733Z
LAST-MODIFIED:20230517T184733Z
UID:5937-1711238400-1711324799@illinoisnaz.org
SUMMARY:Palm Sunday
DESCRIPTION:
URL:https://illinoisnaz.org/event/palm-sunday-2/
LOCATION:IL
CATEGORIES:District
END:VEVENT
END:VCALENDAR