BEGIN:VCALENDAR
VERSION:2.0
PRODID:-//Illinois District Church of the Nazarene - ECPv6.15.20//NONSGML v1.0//EN
CALSCALE:GREGORIAN
METHOD:PUBLISH
X-WR-CALNAME:Illinois District Church of the Nazarene
X-ORIGINAL-URL:https://illinoisnaz.org
X-WR-CALDESC:Events for Illinois District Church of the Nazarene
REFRESH-INTERVAL;VALUE=DURATION:PT1H
X-Robots-Tag:noindex
X-PUBLISHED-TTL:PT1H
BEGIN:VTIMEZONE
TZID:America/Chicago
BEGIN:DAYLIGHT
TZOFFSETFROM:-0600
TZOFFSETTO:-0500
TZNAME:CDT
DTSTART:20250309T080000
END:DAYLIGHT
BEGIN:STANDARD
TZOFFSETFROM:-0500
TZOFFSETTO:-0600
TZNAME:CST
DTSTART:20251102T070000
END:STANDARD
BEGIN:DAYLIGHT
TZOFFSETFROM:-0600
TZOFFSETTO:-0500
TZNAME:CDT
DTSTART:20260308T080000
END:DAYLIGHT
BEGIN:STANDARD
TZOFFSETFROM:-0500
TZOFFSETTO:-0600
TZNAME:CST
DTSTART:20261101T070000
END:STANDARD
BEGIN:DAYLIGHT
TZOFFSETFROM:-0600
TZOFFSETTO:-0500
TZNAME:CDT
DTSTART:20270314T080000
END:DAYLIGHT
BEGIN:STANDARD
TZOFFSETFROM:-0500
TZOFFSETTO:-0600
TZNAME:CST
DTSTART:20271107T070000
END:STANDARD
END:VTIMEZONE
BEGIN:VEVENT
DTSTART;TZID=America/Chicago:20260326T110000
DTEND;TZID=America/Chicago:20260326T130000
DTSTAMP:20260423T161821
CREATED:20260316T024752Z
LAST-MODIFIED:20260316T024752Z
UID:12340-1774522800-1774530000@illinoisnaz.org
SUMMARY:Pastors - Northeast Zone Pre-Assembly Prep meeting at Champaign Grace\, 11:00 am
DESCRIPTION:
URL:https://illinoisnaz.org/event/pastors-northeast-zone-pre-assembly-prep-meeting-at-champaign-grace-1100-am/
END:VEVENT
BEGIN:VEVENT
DTSTART;TZID=America/Chicago:20260326T110000
DTEND;TZID=America/Chicago:20260326T130000
DTSTAMP:20260423T161821
CREATED:20260316T024914Z
LAST-MODIFIED:20260316T024914Z
UID:12342-1774522800-1774530000@illinoisnaz.org
SUMMARY:Pastors - Illinois River Zone Pre-Assembly Prep meeting at Nebo\, 6:00 pm
DESCRIPTION:
URL:https://illinoisnaz.org/event/pastors-illinois-river-zone-pre-assembly-prep-meeting-at-nebo-600-pm/
END:VEVENT
END:VCALENDAR