BEGIN:VCALENDAR
VERSION:2.0
PRODID:-//Illinois District Church of the Nazarene - ECPv6.15.20//NONSGML v1.0//EN
CALSCALE:GREGORIAN
METHOD:PUBLISH
X-ORIGINAL-URL:https://illinoisnaz.org
X-WR-CALDESC:Events for Illinois District Church of the Nazarene
REFRESH-INTERVAL;VALUE=DURATION:PT1H
X-Robots-Tag:noindex
X-PUBLISHED-TTL:PT1H
BEGIN:VTIMEZONE
TZID:America/Chicago
BEGIN:DAYLIGHT
TZOFFSETFROM:-0600
TZOFFSETTO:-0500
TZNAME:CDT
DTSTART:20250309T080000
END:DAYLIGHT
BEGIN:STANDARD
TZOFFSETFROM:-0500
TZOFFSETTO:-0600
TZNAME:CST
DTSTART:20251102T070000
END:STANDARD
BEGIN:DAYLIGHT
TZOFFSETFROM:-0600
TZOFFSETTO:-0500
TZNAME:CDT
DTSTART:20260308T080000
END:DAYLIGHT
BEGIN:STANDARD
TZOFFSETFROM:-0500
TZOFFSETTO:-0600
TZNAME:CST
DTSTART:20261101T070000
END:STANDARD
BEGIN:DAYLIGHT
TZOFFSETFROM:-0600
TZOFFSETTO:-0500
TZNAME:CDT
DTSTART:20270314T080000
END:DAYLIGHT
BEGIN:STANDARD
TZOFFSETFROM:-0500
TZOFFSETTO:-0600
TZNAME:CST
DTSTART:20271107T070000
END:STANDARD
END:VTIMEZONE
BEGIN:VEVENT
DTSTART;TZID=America/Chicago:20260324T110000
DTEND;TZID=America/Chicago:20260324T130000
DTSTAMP:20260423T161905
CREATED:20260316T024547Z
LAST-MODIFIED:20260316T024547Z
UID:12336-1774350000-1774357200@illinoisnaz.org
SUMMARY:Pastors - East Central Zone Pre-Assembly Prep meeting at Mattoon Stadium Grill\, 11:00 am
DESCRIPTION:
URL:https://illinoisnaz.org/event/pastors-east-central-zone-pre-assembly-prep-meeting-at-mattoon-stadium-grill-1100-am/
END:VEVENT
BEGIN:VEVENT
DTSTART;TZID=America/Chicago:20260324T180000
DTEND;TZID=America/Chicago:20260324T200000
DTSTAMP:20260423T161905
CREATED:20260316T024649Z
LAST-MODIFIED:20260316T024649Z
UID:12338-1774375200-1774382400@illinoisnaz.org
SUMMARY:Pastors - South Central Zone Pre-Assembly Prep meeting at Flora\, 6:00 pm
DESCRIPTION:
URL:https://illinoisnaz.org/event/pastors-south-central-zone-pre-assembly-prep-meeting-at-flora-600-pm/
END:VEVENT
END:VCALENDAR