BEGIN:VCALENDAR
VERSION:2.0
PRODID:-//Illinois District Church of the Nazarene - ECPv6.15.20//NONSGML v1.0//EN
CALSCALE:GREGORIAN
METHOD:PUBLISH
X-WR-CALNAME:Illinois District Church of the Nazarene
X-ORIGINAL-URL:https://illinoisnaz.org
X-WR-CALDESC:Events for Illinois District Church of the Nazarene
REFRESH-INTERVAL;VALUE=DURATION:PT1H
X-Robots-Tag:noindex
X-PUBLISHED-TTL:PT1H
BEGIN:VTIMEZONE
TZID:America/Chicago
BEGIN:DAYLIGHT
TZOFFSETFROM:-0600
TZOFFSETTO:-0500
TZNAME:CDT
DTSTART:20240310T080000
END:DAYLIGHT
BEGIN:STANDARD
TZOFFSETFROM:-0500
TZOFFSETTO:-0600
TZNAME:CST
DTSTART:20241103T070000
END:STANDARD
BEGIN:DAYLIGHT
TZOFFSETFROM:-0600
TZOFFSETTO:-0500
TZNAME:CDT
DTSTART:20250309T080000
END:DAYLIGHT
BEGIN:STANDARD
TZOFFSETFROM:-0500
TZOFFSETTO:-0600
TZNAME:CST
DTSTART:20251102T070000
END:STANDARD
BEGIN:DAYLIGHT
TZOFFSETFROM:-0600
TZOFFSETTO:-0500
TZNAME:CDT
DTSTART:20260308T080000
END:DAYLIGHT
BEGIN:STANDARD
TZOFFSETFROM:-0500
TZOFFSETTO:-0600
TZNAME:CST
DTSTART:20261101T070000
END:STANDARD
END:VTIMEZONE
BEGIN:VEVENT
DTSTART;VALUE=DATE:20250317
DTEND;VALUE=DATE:20250327
DTSTAMP:20260424T120227
CREATED:20240607T005736Z
LAST-MODIFIED:20250218T192546Z
UID:8217-1742169600-1743033599@illinoisnaz.org
SUMMARY:NMI Missions Rally
DESCRIPTION:ROD and SARAH REED – Africa Region
URL:https://illinoisnaz.org/event/nmi-missions-rally/
CATEGORIES:NMI
END:VEVENT
BEGIN:VEVENT
DTSTART;TZID=America/Chicago:20250325T090000
DTEND;TZID=America/Chicago:20250325T103000
DTSTAMP:20260424T120227
CREATED:20241216T010704Z
LAST-MODIFIED:20241216T011030Z
UID:9285-1742893200-1742898600@illinoisnaz.org
SUMMARY:Pastor’s Professional Development
DESCRIPTION:
URL:https://illinoisnaz.org/event/pastors-professional-development-2/
LOCATION:zoom
END:VEVENT
BEGIN:VEVENT
DTSTART;TZID=America/Chicago:20250325T183000
DTEND;TZID=America/Chicago:20250325T193000
DTSTAMP:20260424T120227
CREATED:20241216T010704Z
LAST-MODIFIED:20250218T205103Z
UID:9525-1742927400-1742931000@illinoisnaz.org
SUMMARY:Pastor’s Professional Development
DESCRIPTION:All details needed to prepare your APR!
URL:https://illinoisnaz.org/event/pastors-professional-development-2-2-3-2-2-4/
LOCATION:zoom
END:VEVENT
END:VCALENDAR